BEGIN_USGS_DOQ_HEADER *
QUADRANGLE_NAME "MAMMOTH WASH" *
QUADRANT NE *
NORTH_LATITUDE 33 15 00.000 *
WEST_LONGITUDE -115 11 15.000 *
SOUTH_LATITUDE 33 11 15.000 *
EAST_LONGITUDE -115 07 30.000 *
PRODUCTION_DATE 1998 04 08 *
RASTER_ORDER LEFT_RIGHT/TOP_BOTTOM *
BAND_ORGANIZATION BIP *
BAND_CONTENT RED *
BAND_CONTENT GREEN *
BAND_CONTENT BLUE *
BITS_PER_PIXEL 8 *
SAMPLES_AND_LINES 6660 7650 *
HORIZONTAL_DATUM NAD83 *
HORIZONTAL_COORDINATE_SYSTEM UTM *
COORDINATE_ZONE 11 *
HORIZONTAL_UNITS METERS *
HORIZONTAL_RESOLUTION 1.000 *
SECONDARY_HORIZONTAL_DATUM NAD27 *
XY_ORIGIN 668460.000 3680880.000 *
SECONDARY_XY_ORIGIN 668539.174 3680685.607 *
NATION US *
STATE CA *
NW_QUAD_CORNER_XY 668848.399 3680467.137 *
NE_QUAD_CORNER_XY 674671.579 3680569.916 *
SE_QUAD_CORNER_XY 674795.873 3673639.422 *
SW_QUAD_CORNER_XY 668968.545 3673536.741 *
SECONDARY_NW_QUAD_XY 668852.126 3680275.186 *
SECONDARY_NE_QUAD_XY 674675.435 3680377.967 *
SECONDARY_SE_QUAD_XY 674799.725 3673447.683 *
SECONDARY_SW_QUAD_XY 668972.269 3673345.000 *
RMSE_XY 3.591 *
IMAGE_SOURCE "CIR FILM" *
SOURCE_IMAGE_ID "NAPP 9563 170" *
SOURCE_IMAGE_DATE 1996 06 15 *
SOURCE_IMAGE_ID "NAPP 9563 169" *
SOURCE_IMAGE_DATE 1996 06 15 *
SOURCE_DEM_DATE 1997 01 01 *
AGENCY "WESTERN MAPPING CENTER (WMC)" *
PRODUCER "ANALYTICAL SURVEYS INC." *
PRODUCTION_SYSTEM "ORBIT OR_RECTIFY V.5.2" *
STANDARD_VERSION 1996 12 *
METADATA_DATE 1998 04 08 *
DATA_FILE_SIZE 152866980 *
BYTE_COUNT 19980 * * * * * * * * * * * * * * * * * * * * * * * * * * * * * * * * * * * * * * * * * * * * * * * * * * * * * * * * * * * * * * * * * * * * * * * * * * * * * * * * * * * * * * * * * * * * * * * * * * * * * * * * * * * * * * * * * * * * * * * * * * * * * * * * * * * * * * * * * * * * * * * * * * * * * * * * * * * * * * * * * * * * * * * * * * * * * * * * * * * * * * * * * * * * * * * * * * * * * * * * * * *
END_USGS_HEADER *
