BEGIN_USGS_DOQ_HEADER *
QUADRANGLE_NAME "TORTUGA" *
QUADRANT NW *
NORTH_LATITUDE 33 15 00.000 *
WEST_LONGITUDE -115 22 30.000 *
SOUTH_LATITUDE 33 11 15.000 *
EAST_LONGITUDE -115 18 45.000 *
PRODUCTION_DATE 1998 04 08 *
RASTER_ORDER LEFT_RIGHT/TOP_BOTTOM *
BAND_ORGANIZATION BIP *
BAND_CONTENT RED *
BAND_CONTENT GREEN *
BAND_CONTENT BLUE *
BITS_PER_PIXEL 8 *
SAMPLES_AND_LINES 6630 7650 *
HORIZONTAL_DATUM NAD83 *
HORIZONTAL_COORDINATE_SYSTEM UTM *
COORDINATE_ZONE 11 *
HORIZONTAL_UNITS METERS *
HORIZONTAL_RESOLUTION 1.000 *
SECONDARY_HORIZONTAL_DATUM NAD27 *
XY_ORIGIN 651000.000 3680580.000 *
SECONDARY_XY_ORIGIN 651079.377 3680385.349 *
NATION US *
STATE CA *
NW_QUAD_CORNER_XY 651379.332 3680179.725 *
NE_QUAD_CORNER_XY 657202.278 3680272.042 *
SE_QUAD_CORNER_XY 657314.131 3673341.832 *
SW_QUAD_CORNER_XY 651487.038 3673249.603 *
SECONDARY_NW_QUAD_XY 651382.674 3679987.767 *
SECONDARY_NE_QUAD_XY 657205.748 3680080.086 *
SECONDARY_SE_QUAD_XY 657317.598 3673150.086 *
SECONDARY_SW_QUAD_XY 651490.377 3673057.855 *
RMSE_XY 0.813 *
IMAGE_SOURCE "CIR FILM" *
SOURCE_IMAGE_ID "NAPP 9564 91" *
SOURCE_IMAGE_DATE 1996 06 16 *
SOURCE_DEM_DATE 1976 01 01 *
AGENCY "WESTERN MAPPING CENTER (WMC)" *
PRODUCER "ANALYTICAL SURVEYS INC." *
PRODUCTION_SYSTEM "ORBIT OR_RECTIFY V.5.2" *
STANDARD_VERSION 1996 12 *
METADATA_DATE 1998 04 08 *
DATA_FILE_SIZE 152178390 *
BYTE_COUNT 19890 * * * * * * * * * * * * * * * * * * * * * * * * * * * * * * * * * * * * * * * * * * * * * * * * * * * * * * * * * * * * * * * * * * * * * * * * * * * * * * * * * * * * * * * * * * * * * * * * * * * * * * * * * * * * * * * * * * * * * * * * * * * * * * * * * * * * * * * * * * * * * * * * * * * * * * * * * * * * * * * * * * * * * * * * * * * * * * * * * * * * * * * * * * * * * * * * * * * * * * * * * * * *
END_USGS_HEADER *
