BEGIN_USGS_DOQ_HEADER *
QUADRANGLE_NAME "TORTUGA" *
QUADRANT SE *
NORTH_LATITUDE 33 11 15.000 *
WEST_LONGITUDE -115 18 45.000 *
SOUTH_LATITUDE 33 07 30.000 *
EAST_LONGITUDE -115 15 00.000 *
PRODUCTION_DATE 1998 04 08 *
RASTER_ORDER LEFT_RIGHT/TOP_BOTTOM *
BAND_ORGANIZATION BIP *
BAND_CONTENT RED *
BAND_CONTENT GREEN *
BAND_CONTENT BLUE *
BITS_PER_PIXEL 8 *
SAMPLES_AND_LINES 6660 7680 *
HORIZONTAL_DATUM NAD83 *
HORIZONTAL_COORDINATE_SYSTEM UTM *
COORDINATE_ZONE 11 *
HORIZONTAL_UNITS METERS *
HORIZONTAL_RESOLUTION 1.000 *
SECONDARY_HORIZONTAL_DATUM NAD27 *
XY_ORIGIN 656910.000 3673770.000 *
SECONDARY_XY_ORIGIN 656989.371 3673575.445 *
NATION US *
STATE CA *
NW_QUAD_CORNER_XY 657314.131 3673341.832 *
NE_QUAD_CORNER_XY 663141.299 3673437.544 *
SE_QUAD_CORNER_XY 663257.104 3666507.306 *
SW_QUAD_CORNER_XY 657425.796 3666411.685 *
SECONDARY_NW_QUAD_XY 657317.598 3673150.086 *
SECONDARY_NE_QUAD_XY 663144.894 3673245.801 *
SECONDARY_SE_QUAD_XY 663260.696 3666315.773 *
SECONDARY_SW_QUAD_XY 657429.259 3666220.151 *
RMSE_XY 3.386 *
IMAGE_SOURCE "CIR FILM" *
SOURCE_IMAGE_ID "NAPP 9564 59" *
SOURCE_IMAGE_DATE 1996 06 16 *
SOURCE_DEM_DATE 1976 01 01 *
AGENCY "WESTERN MAPPING CENTER (WMC)" *
PRODUCER "ANALYTICAL SURVEYS INC." *
PRODUCTION_SYSTEM "ORBIT OR_RECTIFY V.5.2" *
STANDARD_VERSION 1996 12 *
METADATA_DATE 1998 04 08 *
DATA_FILE_SIZE 153466380 *
BYTE_COUNT 19980 * * * * * * * * * * * * * * * * * * * * * * * * * * * * * * * * * * * * * * * * * * * * * * * * * * * * * * * * * * * * * * * * * * * * * * * * * * * * * * * * * * * * * * * * * * * * * * * * * * * * * * * * * * * * * * * * * * * * * * * * * * * * * * * * * * * * * * * * * * * * * * * * * * * * * * * * * * * * * * * * * * * * * * * * * * * * * * * * * * * * * * * * * * * * * * * * * * * * * * * * * * * * *
END_USGS_HEADER *
