BEGIN_USGS_DOQ_HEADER *
QUADRANGLE_NAME "NILAND" *
QUADRANT SE *
NORTH_LATITUDE 33 11 15.000 *
WEST_LONGITUDE -115 33 45.000 *
SOUTH_LATITUDE 33 07 30.000 *
EAST_LONGITUDE -115 30 00.000 *
PRODUCTION_DATE 1998 04 01 *
RASTER_ORDER LEFT_RIGHT/TOP_BOTTOM *
BAND_ORGANIZATION BIP *
BAND_CONTENT RED *
BAND_CONTENT GREEN *
BAND_CONTENT BLUE *
BITS_PER_PIXEL 8 *
SAMPLES_AND_LINES 6660 7620 *
HORIZONTAL_DATUM NAD83 *
HORIZONTAL_COORDINATE_SYSTEM UTM *
COORDINATE_ZONE 11 *
HORIZONTAL_UNITS METERS *
HORIZONTAL_RESOLUTION 1.000 *
SECONDARY_HORIZONTAL_DATUM NAD27 *
XY_ORIGIN 633600.000 3673380.000 *
SECONDARY_XY_ORIGIN 633679.656 3673184.984 *
NATION US *
STATE CA *
NW_QUAD_CORNER_XY 634006.187 3672993.815 *
NE_QUAD_CORNER_XY 639833.069 3673075.595 *
SE_QUAD_CORNER_XY 639932.317 3666145.703 *
SW_QUAD_CORNER_XY 634101.297 3666064.002 *
SECONDARY_NW_QUAD_XY 634009.140 3672802.062 *
SECONDARY_NE_QUAD_XY 639836.150 3672883.843 *
SECONDARY_SE_QUAD_XY 639935.396 3665954.163 *
SECONDARY_SW_QUAD_XY 634104.247 3665872.460 *
RMSE_XY 1.061 *
IMAGE_SOURCE "CIR FILM" *
SOURCE_IMAGE_ID "NAPP 9564 197" *
SOURCE_IMAGE_DATE 1996 06 16 *
SOURCE_DEM_DATE 1976 01 01 *
AGENCY "WESTERN MAPPING CENTER (WMC)" *
PRODUCER "ANALYTICAL SURVEYS INC." *
PRODUCTION_SYSTEM "ORBIT OR_RECTIFY V.5.2" *
STANDARD_VERSION 1996 12 *
METADATA_DATE 1998 04 03 *
DATA_FILE_SIZE 152267580 *
BYTE_COUNT 19980 * * * * * * * * * * * * * * * * * * * * * * * * * * * * * * * * * * * * * * * * * * * * * * * * * * * * * * * * * * * * * * * * * * * * * * * * * * * * * * * * * * * * * * * * * * * * * * * * * * * * * * * * * * * * * * * * * * * * * * * * * * * * * * * * * * * * * * * * * * * * * * * * * * * * * * * * * * * * * * * * * * * * * * * * * * * * * * * * * * * * * * * * * * * * * * * * * * * * * * * * * * * * *
END_USGS_HEADER *
