BEGIN_USGS_DOQ_HEADER *
QUADRANGLE_NAME "PEGLEG WELL" *
QUADRANT NE *
NORTH_LATITUDE 33 22 30.000 *
WEST_LONGITUDE -115 11 15.000 *
SOUTH_LATITUDE 33 18 45.000 *
EAST_LONGITUDE -115 07 30.000 *
PRODUCTION_DATE 1998 04 07 *
RASTER_ORDER LEFT_RIGHT/TOP_BOTTOM *
BAND_ORGANIZATION BIP *
BAND_CONTENT RED *
BAND_CONTENT GREEN *
BAND_CONTENT BLUE *
BITS_PER_PIXEL 8 *
SAMPLES_AND_LINES 6630 7650 *
HORIZONTAL_DATUM NAD83 *
HORIZONTAL_COORDINATE_SYSTEM UTM *
COORDINATE_ZONE 11 *
HORIZONTAL_UNITS METERS *
HORIZONTAL_RESOLUTION 1.000 *
SECONDARY_HORIZONTAL_DATUM NAD27 *
XY_ORIGIN 668220.000 3694740.000 *
SECONDARY_XY_ORIGIN 668299.082 3694545.602 *
NATION US *
STATE CA *
NW_QUAD_CORNER_XY 668607.503 3694328.119 *
NE_QUAD_CORNER_XY 674422.366 3694431.092 *
SE_QUAD_CORNER_XY 674547.077 3687500.473 *
SW_QUAD_CORNER_XY 668728.051 3687397.597 *
SECONDARY_NW_QUAD_XY 668611.237 3694135.748 *
SECONDARY_NE_QUAD_XY 674426.230 3694238.724 *
SECONDARY_SE_QUAD_XY 674550.936 3687308.314 *
SECONDARY_SW_QUAD_XY 668731.782 3687205.435 *
RMSE_XY 1.325 *
IMAGE_SOURCE "CIR FILM" *
SOURCE_IMAGE_ID "NAPP 9563 174" *
SOURCE_IMAGE_DATE 1996 06 15 *
SOURCE_DEM_DATE 1997 01 01 *
AGENCY "WESTERN MAPPING CENTER (WMC)" *
PRODUCER "ANALYTICAL SURVEYS INC." *
PRODUCTION_SYSTEM "ORBIT OR_RECTIFY V.5.2" *
STANDARD_VERSION 1996 12 *
METADATA_DATE 1998 04 09 *
DATA_FILE_SIZE 152178390 *
BYTE_COUNT 19890 * * * * * * * * * * * * * * * * * * * * * * * * * * * * * * * * * * * * * * * * * * * * * * * * * * * * * * * * * * * * * * * * * * * * * * * * * * * * * * * * * * * * * * * * * * * * * * * * * * * * * * * * * * * * * * * * * * * * * * * * * * * * * * * * * * * * * * * * * * * * * * * * * * * * * * * * * * * * * * * * * * * * * * * * * * * * * * * * * * * * * * * * * * * * * * * * * * * * * * * * * * * *
END_USGS_HEADER *
