BEGIN_USGS_DOQ_HEADER *
QUADRANGLE_NAME "WISTER" *
QUADRANT SE *
NORTH_LATITUDE 33 18 45.000 *
WEST_LONGITUDE -115 33 45.000 *
SOUTH_LATITUDE 33 15 00.000 *
EAST_LONGITUDE -115 30 00.000 *
PRODUCTION_DATE 1998 04 01 *
RASTER_ORDER LEFT_RIGHT/TOP_BOTTOM *
BAND_ORGANIZATION BIP *
BAND_CONTENT RED *
BAND_CONTENT GREEN *
BAND_CONTENT BLUE *
BITS_PER_PIXEL 8 *
SAMPLES_AND_LINES 6630 7620 *
HORIZONTAL_DATUM NAD83 *
HORIZONTAL_COORDINATE_SYSTEM UTM *
COORDINATE_ZONE 11 *
HORIZONTAL_UNITS METERS *
HORIZONTAL_RESOLUTION 1.000 *
SECONDARY_HORIZONTAL_DATUM NAD27 *
XY_ORIGIN 633420.000 3687240.000 *
SECONDARY_XY_ORIGIN 633499.485 3687045.099 *
NATION US *
STATE CA *
NW_QUAD_CORNER_XY 633815.488 3686853.637 *
NE_QUAD_CORNER_XY 639634.073 3686935.573 *
SE_QUAD_CORNER_XY 639733.654 3680005.551 *
SW_QUAD_CORNER_XY 633910.917 3679923.693 *
SECONDARY_NW_QUAD_XY 633818.447 3686661.463 *
SECONDARY_NE_QUAD_XY 639637.161 3686743.401 *
SECONDARY_SE_QUAD_XY 639736.739 3679813.589 *
SECONDARY_SW_QUAD_XY 633913.873 3679731.729 *
RMSE_XY 0.960 *
IMAGE_SOURCE "CIR FILM" *
SOURCE_IMAGE_ID "NAPP 9564 201" *
SOURCE_IMAGE_DATE 1996 06 16 *
SOURCE_DEM_DATE 1976 01 01 *
AGENCY "WESTERN MAPPING CENTER (WMC)" *
PRODUCER "ANALYTICAL SURVEYS INC." *
PRODUCTION_SYSTEM "ORBIT OR_RECTIFY V.5.2" *
STANDARD_VERSION 1996 12 *
METADATA_DATE 1998 04 02 *
DATA_FILE_SIZE 151581690 *
BYTE_COUNT 19890 * * * * * * * * * * * * * * * * * * * * * * * * * * * * * * * * * * * * * * * * * * * * * * * * * * * * * * * * * * * * * * * * * * * * * * * * * * * * * * * * * * * * * * * * * * * * * * * * * * * * * * * * * * * * * * * * * * * * * * * * * * * * * * * * * * * * * * * * * * * * * * * * * * * * * * * * * * * * * * * * * * * * * * * * * * * * * * * * * * * * * * * * * * * * * * * * * * * * * * * * * * * *
END_USGS_HEADER *
