BEGIN_USGS_DOQ_HEADER *
QUADRANGLE_NAME "WISTER" *
QUADRANT SW *
NORTH_LATITUDE 33 18 45.000 *
WEST_LONGITUDE -115 37 30.000 *
SOUTH_LATITUDE 33 15 00.000 *
EAST_LONGITUDE -115 33 45.000 *
PRODUCTION_DATE 1998 04 01 *
RASTER_ORDER LEFT_RIGHT/TOP_BOTTOM *
BAND_ORGANIZATION BIP *
BAND_CONTENT RED *
BAND_CONTENT GREEN *
BAND_CONTENT BLUE *
BITS_PER_PIXEL 8 *
SAMPLES_AND_LINES 6630 7650 *
HORIZONTAL_DATUM NAD83 *
HORIZONTAL_COORDINATE_SYSTEM UTM *
COORDINATE_ZONE 11 *
HORIZONTAL_UNITS METERS *
HORIZONTAL_RESOLUTION 1.000 *
SECONDARY_HORIZONTAL_DATUM NAD27 *
XY_ORIGIN 627600.000 3687180.000 *
SECONDARY_XY_ORIGIN 627679.536 3686985.009 *
NATION US *
STATE CA *
NW_QUAD_CORNER_XY 627996.966 3686775.190 *
NE_QUAD_CORNER_XY 633815.488 3686853.637 *
SE_QUAD_CORNER_XY 633910.917 3679923.693 *
SW_QUAD_CORNER_XY 628088.244 3679845.321 *
SECONDARY_NW_QUAD_XY 627999.796 3686583.015 *
SECONDARY_NE_QUAD_XY 633818.447 3686661.463 *
SECONDARY_SE_QUAD_XY 633913.873 3679731.729 *
SECONDARY_SW_QUAD_XY 628091.071 3679653.355 *
RMSE_XY 0.767 *
IMAGE_SOURCE "CIR FILM" *
SOURCE_IMAGE_ID "NAPP 9572 115" *
SOURCE_IMAGE_DATE 1996 09 27 *
SOURCE_DEM_DATE 1976 01 01 *
AGENCY "WESTERN MAPPING CENTER (WMC)" *
PRODUCER "ANALYTICAL SURVEYS INC." *
PRODUCTION_SYSTEM "ORBIT OR_RECTIFY V.5.2" *
STANDARD_VERSION 1996 12 *
METADATA_DATE 1998 04 02 *
DATA_FILE_SIZE 152178390 *
BYTE_COUNT 19890 * * * * * * * * * * * * * * * * * * * * * * * * * * * * * * * * * * * * * * * * * * * * * * * * * * * * * * * * * * * * * * * * * * * * * * * * * * * * * * * * * * * * * * * * * * * * * * * * * * * * * * * * * * * * * * * * * * * * * * * * * * * * * * * * * * * * * * * * * * * * * * * * * * * * * * * * * * * * * * * * * * * * * * * * * * * * * * * * * * * * * * * * * * * * * * * * * * * * * * * * * * * *
END_USGS_HEADER *
