BEGIN_USGS_DOQ_HEADER *
QUADRANGLE_NAME "DURMID SE" *
QUADRANT NE *
NORTH_LATITUDE 33 22 30.000 *
WEST_LONGITUDE -115 48 45.000 *
SOUTH_LATITUDE 33 18 45.000 *
EAST_LONGITUDE -115 45 00.000 *
PRODUCTION_DATE 1998 03 30 *
RASTER_ORDER LEFT_RIGHT/TOP_BOTTOM *
BAND_ORGANIZATION BIP *
BAND_CONTENT RED *
BAND_CONTENT GREEN *
BAND_CONTENT BLUE *
BITS_PER_PIXEL 8 *
SAMPLES_AND_LINES 6600 7620 *
HORIZONTAL_DATUM NAD83 *
HORIZONTAL_COORDINATE_SYSTEM UTM *
COORDINATE_ZONE 11 *
HORIZONTAL_UNITS METERS *
HORIZONTAL_RESOLUTION 1.000 *
SECONDARY_HORIZONTAL_DATUM NAD27 *
XY_ORIGIN 610080.000 3693870.000 *
SECONDARY_XY_ORIGIN 610159.567 3693674.832 *
NATION US *
STATE CA *
NW_QUAD_CORNER_XY 610462.800 3693490.513 *
NE_QUAD_CORNER_XY 616276.990 3693558.559 *
SE_QUAD_CORNER_XY 616360.103 3686628.762 *
SW_QUAD_CORNER_XY 610541.756 3686560.780 *
SECONDARY_NW_QUAD_XY 610465.247 3693298.124 *
SECONDARY_NE_QUAD_XY 616279.565 3693366.171 *
SECONDARY_SE_QUAD_XY 616362.676 3686436.583 *
SECONDARY_SW_QUAD_XY 610544.200 3686368.600 *
RMSE_XY 1.060 *
IMAGE_SOURCE "CIR FILM" *
SOURCE_IMAGE_ID "NAPP 9565 125" *
SOURCE_IMAGE_DATE 1996 06 16 *
SOURCE_DEM_DATE 1956 01 01 *
AGENCY "WESTERN MAPPING CENTER (WMC)" *
PRODUCER "ANALYTICAL SURVEYS INC." *
PRODUCTION_SYSTEM "ORBIT OR_RECTIFY V.5.2" *
STANDARD_VERSION 1996 12 *
METADATA_DATE 1998 03 30 *
DATA_FILE_SIZE 150895800 *
BYTE_COUNT 19800 * * * * * * * * * * * * * * * * * * * * * * * * * * * * * * * * * * * * * * * * * * * * * * * * * * * * * * * * * * * * * * * * * * * * * * * * * * * * * * * * * * * * * * * * * * * * * * * * * * * * * * * * * * * * * * * * * * * * * * * * * * * * * * * * * * * * * * * * * * * * * * * * * * * * * * * * * * * * * * * * * * * * * * * * * * * * * * * * * * * * * * * * * * * * * * * * * * * * * * * * * * *
END_USGS_HEADER *
