BEGIN_USGS_DOQ_HEADER *
QUADRANGLE_NAME "TRUCKHAVEN" *
QUADRANT NE *
NORTH_LATITUDE 33 22 30.000 *
WEST_LONGITUDE -115 56 15.000 *
SOUTH_LATITUDE 33 18 45.000 *
EAST_LONGITUDE -115 52 30.000 *
PRODUCTION_DATE 1998 03 30 *
RASTER_ORDER LEFT_RIGHT/TOP_BOTTOM *
BAND_ORGANIZATION BIP *
BAND_CONTENT RED *
BAND_CONTENT GREEN *
BAND_CONTENT BLUE *
BITS_PER_PIXEL 8 *
SAMPLES_AND_LINES 6600 7620 *
HORIZONTAL_DATUM NAD83 *
HORIZONTAL_COORDINATE_SYSTEM UTM *
COORDINATE_ZONE 11 *
HORIZONTAL_UNITS METERS *
HORIZONTAL_RESOLUTION 1.000 *
SECONDARY_HORIZONTAL_DATUM NAD27 *
XY_ORIGIN 598440.000 3693750.000 *
SECONDARY_XY_ORIGIN 598519.647 3693554.619 *
NATION US *
STATE CA *
NW_QUAD_CORNER_XY 598834.575 3693364.894 *
NE_QUAD_CORNER_XY 604648.663 3693425.958 *
SE_QUAD_CORNER_XY 604723.462 3686496.286 *
SW_QUAD_CORNER_XY 598905.217 3686435.280 *
SECONDARY_NW_QUAD_XY 598836.764 3693172.502 *
SECONDARY_NE_QUAD_XY 604650.981 3693233.568 *
SECONDARY_SE_QUAD_XY 604725.777 3686304.105 *
SECONDARY_SW_QUAD_XY 598907.404 3686243.097 *
RMSE_XY 0.624 *
IMAGE_SOURCE "CIR FILM" *
SOURCE_IMAGE_ID "NAPP 9572 19" *
SOURCE_IMAGE_DATE 1996 09 27 *
SOURCE_DEM_DATE 1956 01 01 *
AGENCY "WESTERN MAPPING CENTER (WMC)" *
PRODUCER "ANALYTICAL SURVEYS INC." *
PRODUCTION_SYSTEM "ORBIT OR_RECTIFY V.5.2" *
STANDARD_VERSION 1996 12 *
METADATA_DATE 1998 03 30 *
DATA_FILE_SIZE 150895800 *
BYTE_COUNT 19800 * * * * * * * * * * * * * * * * * * * * * * * * * * * * * * * * * * * * * * * * * * * * * * * * * * * * * * * * * * * * * * * * * * * * * * * * * * * * * * * * * * * * * * * * * * * * * * * * * * * * * * * * * * * * * * * * * * * * * * * * * * * * * * * * * * * * * * * * * * * * * * * * * * * * * * * * * * * * * * * * * * * * * * * * * * * * * * * * * * * * * * * * * * * * * * * * * * * * * * * * * * *
END_USGS_HEADER *
