BEGIN_USGS_DOQ_HEADER *
QUADRANGLE_NAME "TRUCKHAVEN" *
QUADRANT NW *
NORTH_LATITUDE 33 22 30.000 *
WEST_LONGITUDE -116 00 00.000 *
SOUTH_LATITUDE 33 18 45.000 *
EAST_LONGITUDE -115 56 15.000 *
PRODUCTION_DATE 1998 03 30 *
RASTER_ORDER LEFT_RIGHT/TOP_BOTTOM *
BAND_ORGANIZATION BIP *
BAND_CONTENT RED *
BAND_CONTENT GREEN *
BAND_CONTENT BLUE *
BITS_PER_PIXEL 8 *
SAMPLES_AND_LINES 6600 7620 *
HORIZONTAL_DATUM NAD83 *
HORIZONTAL_COORDINATE_SYSTEM UTM *
COORDINATE_ZONE 11 *
HORIZONTAL_UNITS METERS *
HORIZONTAL_RESOLUTION 1.000 *
SECONDARY_HORIZONTAL_DATUM NAD27 *
XY_ORIGIN 592620.000 3693690.000 *
SECONDARY_XY_ORIGIN 592699.687 3693494.512 *
NATION US *
STATE CA *
NW_QUAD_CORNER_XY 593020.535 3693307.321 *
NE_QUAD_CORNER_XY 598834.575 3693364.894 *
SE_QUAD_CORNER_XY 598905.217 3686435.280 *
SW_QUAD_CORNER_XY 593087.019 3686377.761 *
SECONDARY_NW_QUAD_XY 593022.595 3693114.928 *
SECONDARY_NE_QUAD_XY 598836.764 3693172.502 *
SECONDARY_SE_QUAD_XY 598907.404 3686243.097 *
SECONDARY_SW_QUAD_XY 593089.077 3686185.577 *
RMSE_XY 0.874 *
IMAGE_SOURCE "CIR FILM" *
SOURCE_IMAGE_ID "NAPP 9566 123" *
SOURCE_IMAGE_DATE 1996 06 16 *
SOURCE_DEM_DATE 1956 01 01 *
AGENCY "WESTERN MAPPING CENTER (WMC)" *
PRODUCER "ANALYTICAL SURVEYS INC." *
PRODUCTION_SYSTEM "ORBIT OR_RECTIFY V.5.2" *
STANDARD_VERSION 1996 12 *
METADATA_DATE 1998 03 30 *
DATA_FILE_SIZE 150895800 *
BYTE_COUNT 19800 * * * * * * * * * * * * * * * * * * * * * * * * * * * * * * * * * * * * * * * * * * * * * * * * * * * * * * * * * * * * * * * * * * * * * * * * * * * * * * * * * * * * * * * * * * * * * * * * * * * * * * * * * * * * * * * * * * * * * * * * * * * * * * * * * * * * * * * * * * * * * * * * * * * * * * * * * * * * * * * * * * * * * * * * * * * * * * * * * * * * * * * * * * * * * * * * * * * * * * * * * * *
END_USGS_HEADER *
