BEGIN_USGS_DOQ_HEADER *
QUADRANGLE_NAME "CHUCKWALLA SPRING" *
QUADRANT NW *
NORTH_LATITUDE 33 30 00.000 *
WEST_LONGITUDE -115 15 00.000 *
SOUTH_LATITUDE 33 26 15.000 *
EAST_LONGITUDE -115 11 15.000 *
PRODUCTION_DATE 1998 04 06 *
RASTER_ORDER LEFT_RIGHT/TOP_BOTTOM *
BAND_ORGANIZATION BIP *
BAND_CONTENT RED *
BAND_CONTENT GREEN *
BAND_CONTENT BLUE *
BITS_PER_PIXEL 8 *
SAMPLES_AND_LINES 6630 7680 *
HORIZONTAL_DATUM NAD83 *
HORIZONTAL_COORDINATE_SYSTEM UTM *
COORDINATE_ZONE 11 *
HORIZONTAL_UNITS METERS *
HORIZONTAL_RESOLUTION 1.000 *
SECONDARY_HORIZONTAL_DATUM NAD27 *
XY_ORIGIN 662160.000 3708510.000 *
SECONDARY_XY_ORIGIN 662239.110 3708315.572 *
NATION US *
STATE CA *
NW_QUAD_CORNER_XY 662559.362 3708089.687 *
NE_QUAD_CORNER_XY 668365.803 3708189.352 *
SE_QUAD_CORNER_XY 668486.753 3701258.704 *
SW_QUAD_CORNER_XY 662676.137 3701159.132 *
SECONDARY_NW_QUAD_XY 662562.974 3707896.899 *
SECONDARY_NE_QUAD_XY 668369.545 3707996.566 *
SECONDARY_SE_QUAD_XY 668490.491 3701066.125 *
SECONDARY_SW_QUAD_XY 662679.746 3700966.551 *
RMSE_XY 2.110 *
IMAGE_SOURCE "CIR FILM" *
SOURCE_IMAGE_ID "NAPP 9564 11" *
SOURCE_IMAGE_DATE 1996 06 16 *
SOURCE_DEM_DATE 1997 01 01 *
AGENCY "WESTERN MAPPING CENTER (WMC)" *
PRODUCER "ANALYTICAL SURVEYS INC." *
PRODUCTION_SYSTEM "ORBIT OR_RECTIFY V.5.2" *
STANDARD_VERSION 1996 12 *
METADATA_DATE 1998 04 07 *
DATA_FILE_SIZE 152775090 *
BYTE_COUNT 19890 * * * * * * * * * * * * * * * * * * * * * * * * * * * * * * * * * * * * * * * * * * * * * * * * * * * * * * * * * * * * * * * * * * * * * * * * * * * * * * * * * * * * * * * * * * * * * * * * * * * * * * * * * * * * * * * * * * * * * * * * * * * * * * * * * * * * * * * * * * * * * * * * * * * * * * * * * * * * * * * * * * * * * * * * * * * * * * * * * * * * * * * * * * * * * * * * * * * * * * * * * * * *
END_USGS_HEADER *
