BEGIN_USGS_DOQ_HEADER *
QUADRANGLE_NAME "CHUCKWALLA SPRING" *
QUADRANT SW *
NORTH_LATITUDE 33 26 15.000 *
WEST_LONGITUDE -115 15 00.000 *
SOUTH_LATITUDE 33 22 30.000 *
EAST_LONGITUDE -115 11 15.000 *
PRODUCTION_DATE 1998 04 06 *
RASTER_ORDER LEFT_RIGHT/TOP_BOTTOM *
BAND_ORGANIZATION BIP *
BAND_CONTENT RED *
BAND_CONTENT GREEN *
BAND_CONTENT BLUE *
BITS_PER_PIXEL 8 *
SAMPLES_AND_LINES 6630 7680 *
HORIZONTAL_DATUM NAD83 *
HORIZONTAL_COORDINATE_SYSTEM UTM *
COORDINATE_ZONE 11 *
HORIZONTAL_UNITS METERS *
HORIZONTAL_RESOLUTION 1.000 *
SECONDARY_HORIZONTAL_DATUM NAD27 *
XY_ORIGIN 662280.000 3701580.000 *
SECONDARY_XY_ORIGIN 662359.150 3701385.571 *
NATION US *
STATE CA *
NW_QUAD_CORNER_XY 662676.137 3701159.132 *
NE_QUAD_CORNER_XY 668486.753 3701258.704 *
SE_QUAD_CORNER_XY 668607.503 3694328.119 *
SW_QUAD_CORNER_XY 662792.719 3694228.640 *
SECONDARY_NW_QUAD_XY 662679.746 3700966.551 *
SECONDARY_NE_QUAD_XY 668490.491 3701066.125 *
SECONDARY_SE_QUAD_XY 668611.237 3694135.748 *
SECONDARY_SW_QUAD_XY 662796.324 3694036.267 *
RMSE_XY 1.536 *
IMAGE_SOURCE "CIR FILM" *
SOURCE_IMAGE_ID "NAPP 9564 13" *
SOURCE_IMAGE_DATE 1996 06 16 *
SOURCE_DEM_DATE 1997 01 01 *
AGENCY "WESTERN MAPPING CENTER (WMC)" *
PRODUCER "ANALYTICAL SURVEYS INC." *
PRODUCTION_SYSTEM "ORBIT OR_RECTIFY V.5.2" *
STANDARD_VERSION 1996 12 *
METADATA_DATE 1998 04 07 *
DATA_FILE_SIZE 152775090 *
BYTE_COUNT 19890 * * * * * * * * * * * * * * * * * * * * * * * * * * * * * * * * * * * * * * * * * * * * * * * * * * * * * * * * * * * * * * * * * * * * * * * * * * * * * * * * * * * * * * * * * * * * * * * * * * * * * * * * * * * * * * * * * * * * * * * * * * * * * * * * * * * * * * * * * * * * * * * * * * * * * * * * * * * * * * * * * * * * * * * * * * * * * * * * * * * * * * * * * * * * * * * * * * * * * * * * * * * *
END_USGS_HEADER *
