BEGIN_USGS_DOQ_HEADER *
QUADRANGLE_NAME "AUGUSTINE PASS" *
QUADRANT SE *
NORTH_LATITUDE 33 26 15.000 *
WEST_LONGITUDE -115 18 45.000 *
SOUTH_LATITUDE 33 22 30.000 *
EAST_LONGITUDE -115 15 00.000 *
PRODUCTION_DATE 1998 04 04 *
RASTER_ORDER LEFT_RIGHT/TOP_BOTTOM *
BAND_ORGANIZATION BIP *
BAND_CONTENT RED *
BAND_CONTENT GREEN *
BAND_CONTENT BLUE *
BITS_PER_PIXEL 8 *
SAMPLES_AND_LINES 6660 7680 *
HORIZONTAL_DATUM NAD83 *
HORIZONTAL_COORDINATE_SYSTEM UTM *
COORDINATE_ZONE 11 *
HORIZONTAL_UNITS METERS *
HORIZONTAL_RESOLUTION 1.000 *
SECONDARY_HORIZONTAL_DATUM NAD27 *
XY_ORIGIN 656460.000 3701490.000 *
SECONDARY_XY_ORIGIN 656539.194 3701295.504 *
NATION US *
STATE CA *
NW_QUAD_CORNER_XY 656865.598 3701063.056 *
NE_QUAD_CORNER_XY 662676.137 3701159.132 *
SE_QUAD_CORNER_XY 662792.719 3694228.640 *
SW_QUAD_CORNER_XY 656978.012 3694132.655 *
SECONDARY_NW_QUAD_XY 656869.078 3700870.473 *
SECONDARY_NE_QUAD_XY 662679.746 3700966.551 *
SECONDARY_SE_QUAD_XY 662796.324 3694036.267 *
SECONDARY_SW_QUAD_XY 656981.488 3693940.280 *
RMSE_XY 1.399 *
IMAGE_SOURCE "CIR FILM" *
SOURCE_IMAGE_ID "NAPP 9564 67" *
SOURCE_IMAGE_DATE 1996 06 16 *
SOURCE_DEM_DATE 1987 01 01 *
AGENCY "WESTERN MAPPING CENTER (WMC)" *
PRODUCER "ANALYTICAL SURVEYS INC." *
PRODUCTION_SYSTEM "ORBIT OR_RECTIFY V.5.2" *
STANDARD_VERSION 1996 12 *
METADATA_DATE 1998 04 05 *
DATA_FILE_SIZE 153466380 *
BYTE_COUNT 19980 * * * * * * * * * * * * * * * * * * * * * * * * * * * * * * * * * * * * * * * * * * * * * * * * * * * * * * * * * * * * * * * * * * * * * * * * * * * * * * * * * * * * * * * * * * * * * * * * * * * * * * * * * * * * * * * * * * * * * * * * * * * * * * * * * * * * * * * * * * * * * * * * * * * * * * * * * * * * * * * * * * * * * * * * * * * * * * * * * * * * * * * * * * * * * * * * * * * * * * * * * * * * *
END_USGS_HEADER *
