BEGIN_USGS_DOQ_HEADER *
QUADRANGLE_NAME "IRIS PASS" *
QUADRANT NW *
NORTH_LATITUDE 33 30 00.000 *
WEST_LONGITUDE -115 30 00.000 *
SOUTH_LATITUDE 33 26 15.000 *
EAST_LONGITUDE -115 26 15.000 *
PRODUCTION_DATE 1998 04 03 *
RASTER_ORDER LEFT_RIGHT/TOP_BOTTOM *
BAND_ORGANIZATION BIP *
BAND_CONTENT RED *
BAND_CONTENT GREEN *
BAND_CONTENT BLUE *
BITS_PER_PIXEL 8 *
SAMPLES_AND_LINES 6630 7650 *
HORIZONTAL_DATUM NAD83 *
HORIZONTAL_COORDINATE_SYSTEM UTM *
COORDINATE_ZONE 11 *
HORIZONTAL_UNITS METERS *
HORIZONTAL_RESOLUTION 1.000 *
SECONDARY_HORIZONTAL_DATUM NAD27 *
XY_ORIGIN 638940.000 3708120.000 *
SECONDARY_XY_ORIGIN 639019.281 3707925.389 *
NATION US *
STATE CA *
NW_QUAD_CORNER_XY 639334.332 3707726.027 *
NE_QUAD_CORNER_XY 645140.485 3707811.693 *
SE_QUAD_CORNER_XY 645244.738 3700881.396 *
SW_QUAD_CORNER_XY 639434.412 3700795.811 *
SECONDARY_NW_QUAD_XY 639337.428 3707533.231 *
SECONDARY_NE_QUAD_XY 645143.710 3707618.898 *
SECONDARY_SE_QUAD_XY 645247.960 3700688.809 *
SECONDARY_SW_QUAD_XY 639437.505 3700603.222 *
RMSE_XY 2.426 *
IMAGE_SOURCE "CIR FILM" *
SOURCE_IMAGE_ID "NAPP 9564 151" *
SOURCE_IMAGE_DATE 1996 06 16 *
SOURCE_DEM_DATE 1997 01 01 *
AGENCY "WESTERN MAPPING CENTER (WMC)" *
PRODUCER "ANALYTICAL SURVEYS INC." *
PRODUCTION_SYSTEM "ORBIT OR_RECTIFY V.5.2" *
STANDARD_VERSION 1996 12 *
METADATA_DATE 1998 04 06 *
DATA_FILE_SIZE 152178390 *
BYTE_COUNT 19890 * * * * * * * * * * * * * * * * * * * * * * * * * * * * * * * * * * * * * * * * * * * * * * * * * * * * * * * * * * * * * * * * * * * * * * * * * * * * * * * * * * * * * * * * * * * * * * * * * * * * * * * * * * * * * * * * * * * * * * * * * * * * * * * * * * * * * * * * * * * * * * * * * * * * * * * * * * * * * * * * * * * * * * * * * * * * * * * * * * * * * * * * * * * * * * * * * * * * * * * * * * * *
END_USGS_HEADER *
