BEGIN_USGS_DOQ_HEADER *
QUADRANGLE_NAME "FRINK NW" *
QUADRANT NW *
NORTH_LATITUDE 33 30 00.000 *
WEST_LONGITUDE -115 45 00.000 *
SOUTH_LATITUDE 33 26 15.000 *
EAST_LONGITUDE -115 41 15.000 *
PRODUCTION_DATE 1998 03 31 *
RASTER_ORDER LEFT_RIGHT/TOP_BOTTOM *
BAND_ORGANIZATION BIP *
BAND_CONTENT RED *
BAND_CONTENT GREEN *
BAND_CONTENT BLUE *
BITS_PER_PIXEL 8 *
SAMPLES_AND_LINES 6600 7650 *
HORIZONTAL_DATUM NAD83 *
HORIZONTAL_COORDINATE_SYSTEM UTM *
COORDINATE_ZONE 11 *
HORIZONTAL_UNITS METERS *
HORIZONTAL_RESOLUTION 1.000 *
SECONDARY_HORIZONTAL_DATUM NAD27 *
XY_ORIGIN 615720.000 3707820.000 *
SECONDARY_XY_ORIGIN 615799.318 3707625.176 *
NATION US *
STATE CA *
NW_QUAD_CORNER_XY 616110.347 3707418.353 *
NE_QUAD_CORNER_XY 621916.255 3707490.024 *
SE_QUAD_CORNER_XY 622003.817 3700560.027 *
SW_QUAD_CORNER_XY 616193.738 3700488.423 *
SECONDARY_NW_QUAD_XY 616112.927 3707225.550 *
SECONDARY_NE_QUAD_XY 621918.964 3707297.222 *
SECONDARY_SE_QUAD_XY 622006.524 3700367.433 *
SECONDARY_SW_QUAD_XY 616196.315 3700295.827 *
RMSE_XY 1.396 *
IMAGE_SOURCE "CIR FILM" *
SOURCE_IMAGE_ID "NAPP 9565 72" *
SOURCE_IMAGE_DATE 1996 06 16 *
SOURCE_DEM_DATE 1979 01 01 *
AGENCY "WESTERN MAPPING CENTER (WMC)" *
PRODUCER "ANALYTICAL SURVEYS INC." *
PRODUCTION_SYSTEM "ORBIT OR_RECTIFY V.5.2" *
STANDARD_VERSION 1996 12 *
METADATA_DATE 1998 03 31 *
DATA_FILE_SIZE 151489800 *
BYTE_COUNT 19800 * * * * * * * * * * * * * * * * * * * * * * * * * * * * * * * * * * * * * * * * * * * * * * * * * * * * * * * * * * * * * * * * * * * * * * * * * * * * * * * * * * * * * * * * * * * * * * * * * * * * * * * * * * * * * * * * * * * * * * * * * * * * * * * * * * * * * * * * * * * * * * * * * * * * * * * * * * * * * * * * * * * * * * * * * * * * * * * * * * * * * * * * * * * * * * * * * * * * * * * * * * *
END_USGS_HEADER *
