BEGIN_USGS_DOQ_HEADER *
QUADRANGLE_NAME "FRINK NW" *
QUADRANT SE *
NORTH_LATITUDE 33 26 15.000 *
WEST_LONGITUDE -115 41 15.000 *
SOUTH_LATITUDE 33 22 30.000 *
EAST_LONGITUDE -115 37 30.000 *
PRODUCTION_DATE 1998 03 31 *
RASTER_ORDER LEFT_RIGHT/TOP_BOTTOM *
BAND_ORGANIZATION BIP *
BAND_CONTENT RED *
BAND_CONTENT GREEN *
BAND_CONTENT BLUE *
BITS_PER_PIXEL 8 *
SAMPLES_AND_LINES 6630 7620 *
HORIZONTAL_DATUM NAD83 *
HORIZONTAL_COORDINATE_SYSTEM UTM *
COORDINATE_ZONE 11 *
HORIZONTAL_UNITS METERS *
HORIZONTAL_RESOLUTION 1.000 *
SECONDARY_HORIZONTAL_DATUM NAD27 *
XY_ORIGIN 621600.000 3700950.000 *
SECONDARY_XY_ORIGIN 621679.402 3700755.125 *
NATION US *
STATE CA *
NW_QUAD_CORNER_XY 622003.817 3700560.027 *
NE_QUAD_CORNER_XY 627813.954 3700635.126 *
SE_QUAD_CORNER_XY 627905.537 3693705.125 *
SW_QUAD_CORNER_XY 622091.234 3693630.096 *
SECONDARY_NW_QUAD_XY 622006.524 3700367.433 *
SECONDARY_NE_QUAD_XY 627816.790 3700442.534 *
SECONDARY_SE_QUAD_XY 627908.369 3693512.741 *
SECONDARY_SW_QUAD_XY 622093.938 3693437.710 *
RMSE_XY 2.977 *
IMAGE_SOURCE "CIR FILM" *
SOURCE_IMAGE_ID "NAPP 9565 57" *
SOURCE_IMAGE_DATE 1996 06 16 *
SOURCE_IMAGE_ID "NAPP 9565 59" *
SOURCE_IMAGE_DATE 1996 06 16 *
SOURCE_DEM_DATE 1979 01 01 *
AGENCY "WESTERN MAPPING CENTER (WMC)" *
PRODUCER "ANALYTICAL SURVEYS INC." *
PRODUCTION_SYSTEM "ORBIT OR_RECTIFY V.5.2" *
STANDARD_VERSION 1996 12 *
METADATA_DATE 1998 03 31 *
DATA_FILE_SIZE 151581690 *
BYTE_COUNT 19890 * * * * * * * * * * * * * * * * * * * * * * * * * * * * * * * * * * * * * * * * * * * * * * * * * * * * * * * * * * * * * * * * * * * * * * * * * * * * * * * * * * * * * * * * * * * * * * * * * * * * * * * * * * * * * * * * * * * * * * * * * * * * * * * * * * * * * * * * * * * * * * * * * * * * * * * * * * * * * * * * * * * * * * * * * * * * * * * * * * * * * * * * * * * * * * * * * * * * * * * * * *
END_USGS_HEADER *
