BEGIN_USGS_DOQ_HEADER *
QUADRANGLE_NAME "AZTEC MINES" *
QUADRANT NE *
NORTH_LATITUDE 33 37 30.000 *
WEST_LONGITUDE -115 11 15.000 *
SOUTH_LATITUDE 33 33 45.000 *
EAST_LONGITUDE -115 07 30.000 *
PRODUCTION_DATE 1998 04 07 *
RASTER_ORDER LEFT_RIGHT/TOP_BOTTOM *
BAND_ORGANIZATION BIP *
BAND_CONTENT RED *
BAND_CONTENT GREEN *
BAND_CONTENT BLUE *
BITS_PER_PIXEL 8 *
SAMPLES_AND_LINES 6630 7650 *
HORIZONTAL_DATUM NAD83 *
HORIZONTAL_COORDINATE_SYSTEM UTM *
COORDINATE_ZONE 11 *
HORIZONTAL_UNITS METERS *
HORIZONTAL_RESOLUTION 1.000 *
SECONDARY_HORIZONTAL_DATUM NAD27 *
XY_ORIGIN 667740.000 3722460.000 *
SECONDARY_XY_ORIGIN 667818.896 3722265.587 *
NATION US *
STATE CA *
NW_QUAD_CORNER_XY 668123.300 3722050.837 *
NE_QUAD_CORNER_XY 673921.449 3722154.194 *
SE_QUAD_CORNER_XY 674046.989 3715223.324 *
SW_QUAD_CORNER_XY 668244.652 3715120.063 *
SECONDARY_NW_QUAD_XY 668127.049 3721857.639 *
SECONDARY_NE_QUAD_XY 673925.327 3721960.997 *
SECONDARY_SE_QUAD_XY 674050.864 3715030.334 *
SECONDARY_SW_QUAD_XY 668248.397 3714927.070 *
RMSE_XY 1.029 *
IMAGE_SOURCE "CIR FILM" *
SOURCE_IMAGE_ID "NAPP 9563 182" *
SOURCE_IMAGE_DATE 1996 06 15 *
SOURCE_DEM_DATE 1983 01 01 *
AGENCY "WESTERN MAPPING CENTER (WMC)" *
PRODUCER "ANALYTICAL SURVEYS INC." *
PRODUCTION_SYSTEM "ORBIT OR_RECTIFY V.5.2" *
STANDARD_VERSION 1996 12 *
METADATA_DATE 1998 04 07 *
DATA_FILE_SIZE 152178390 *
BYTE_COUNT 19890 * * * * * * * * * * * * * * * * * * * * * * * * * * * * * * * * * * * * * * * * * * * * * * * * * * * * * * * * * * * * * * * * * * * * * * * * * * * * * * * * * * * * * * * * * * * * * * * * * * * * * * * * * * * * * * * * * * * * * * * * * * * * * * * * * * * * * * * * * * * * * * * * * * * * * * * * * * * * * * * * * * * * * * * * * * * * * * * * * * * * * * * * * * * * * * * * * * * * * * * * * * * *
END_USGS_HEADER *
