BEGIN_USGS_DOQ_HEADER *
QUADRANGLE_NAME "AZTEC MINES" *
QUADRANT SE *
NORTH_LATITUDE 33 33 45.000 *
WEST_LONGITUDE -115 11 15.000 *
SOUTH_LATITUDE 33 30 00.000 *
EAST_LONGITUDE -115 07 30.000 *
PRODUCTION_DATE 1998 04 07 *
RASTER_ORDER LEFT_RIGHT/TOP_BOTTOM *
BAND_ORGANIZATION BIP *
BAND_CONTENT RED *
BAND_CONTENT GREEN *
BAND_CONTENT BLUE *
BITS_PER_PIXEL 8 *
SAMPLES_AND_LINES 6630 7650 *
HORIZONTAL_DATUM NAD83 *
HORIZONTAL_COORDINATE_SYSTEM UTM *
COORDINATE_ZONE 11 *
HORIZONTAL_UNITS METERS *
HORIZONTAL_RESOLUTION 1.000 *
SECONDARY_HORIZONTAL_DATUM NAD27 *
XY_ORIGIN 667860.000 3715530.000 *
SECONDARY_XY_ORIGIN 667938.946 3715335.593 *
NATION US *
STATE CA *
NW_QUAD_CORNER_XY 668244.652 3715120.063 *
NE_QUAD_CORNER_XY 674046.989 3715223.324 *
SE_QUAD_CORNER_XY 674172.323 3708292.518 *
SW_QUAD_CORNER_XY 668365.803 3708189.352 *
SECONDARY_NW_QUAD_XY 668248.397 3714927.070 *
SECONDARY_NE_QUAD_XY 674050.864 3715030.334 *
SECONDARY_SE_QUAD_XY 674176.194 3708099.734 *
SECONDARY_SW_QUAD_XY 668369.545 3707996.566 *
RMSE_XY 1.383 *
IMAGE_SOURCE "CIR FILM" *
SOURCE_IMAGE_ID "NAPP 9563 180" *
SOURCE_IMAGE_DATE 1996 06 15 *
SOURCE_DEM_DATE 1983 01 01 *
AGENCY "WESTERN MAPPING CENTER (WMC)" *
PRODUCER "ANALYTICAL SURVEYS INC." *
PRODUCTION_SYSTEM "ORBIT OR_RECTIFY V.5.2" *
STANDARD_VERSION 1996 12 *
METADATA_DATE 1998 04 07 *
DATA_FILE_SIZE 152178390 *
BYTE_COUNT 19890 * * * * * * * * * * * * * * * * * * * * * * * * * * * * * * * * * * * * * * * * * * * * * * * * * * * * * * * * * * * * * * * * * * * * * * * * * * * * * * * * * * * * * * * * * * * * * * * * * * * * * * * * * * * * * * * * * * * * * * * * * * * * * * * * * * * * * * * * * * * * * * * * * * * * * * * * * * * * * * * * * * * * * * * * * * * * * * * * * * * * * * * * * * * * * * * * * * * * * * * * * * * *
END_USGS_HEADER *
