BEGIN_USGS_DOQ_HEADER *
QUADRANGLE_NAME "EAST OF RED CANYON" *
QUADRANT NE *
NORTH_LATITUDE 33 37 30.000 *
WEST_LONGITUDE -115 33 45.000 *
SOUTH_LATITUDE 33 33 45.000 *
EAST_LONGITUDE -115 30 00.000 *
PRODUCTION_DATE 1998 04 01 *
RASTER_ORDER LEFT_RIGHT/TOP_BOTTOM *
BAND_ORGANIZATION BIP *
BAND_CONTENT RED *
BAND_CONTENT GREEN *
BAND_CONTENT BLUE *
BITS_PER_PIXEL 8 *
SAMPLES_AND_LINES 6600 7620 *
HORIZONTAL_DATUM NAD83 *
HORIZONTAL_COORDINATE_SYSTEM UTM *
COORDINATE_ZONE 11 *
HORIZONTAL_UNITS METERS *
HORIZONTAL_RESOLUTION 1.000 *
SECONDARY_HORIZONTAL_DATUM NAD27 *
XY_ORIGIN 632940.000 3721890.000 *
SECONDARY_XY_ORIGIN 633019.141 3721695.451 *
NATION US *
STATE CA *
NW_QUAD_CORNER_XY 633335.953 3721504.338 *
NE_QUAD_CORNER_XY 639133.674 3721586.656 *
SE_QUAD_CORNER_XY 639234.086 3714656.309 *
SW_QUAD_CORNER_XY 633432.178 3714574.067 *
SECONDARY_NW_QUAD_XY 633338.926 3721311.127 *
SECONDARY_NE_QUAD_XY 639136.776 3721393.447 *
SECONDARY_SE_QUAD_XY 639237.185 3714463.306 *
SECONDARY_SW_QUAD_XY 633435.148 3714381.062 *
RMSE_XY 1.675 *
IMAGE_SOURCE "CIR FILM" *
SOURCE_IMAGE_ID "NAPP 9564 211" *
SOURCE_IMAGE_DATE 1996 06 16 *
SOURCE_DEM_DATE 1987 01 01 *
AGENCY "WESTERN MAPPING CENTER (WMC)" *
PRODUCER "ANALYTICAL SURVEYS INC." *
PRODUCTION_SYSTEM "ORBIT OR_RECTIFY V.5.2" *
STANDARD_VERSION 1996 12 *
METADATA_DATE 1998 04 01 *
DATA_FILE_SIZE 150895800 *
BYTE_COUNT 19800 * * * * * * * * * * * * * * * * * * * * * * * * * * * * * * * * * * * * * * * * * * * * * * * * * * * * * * * * * * * * * * * * * * * * * * * * * * * * * * * * * * * * * * * * * * * * * * * * * * * * * * * * * * * * * * * * * * * * * * * * * * * * * * * * * * * * * * * * * * * * * * * * * * * * * * * * * * * * * * * * * * * * * * * * * * * * * * * * * * * * * * * * * * * * * * * * * * * * * * * * * * *
END_USGS_HEADER *
