BEGIN_USGS_DOQ_HEADER *
QUADRANGLE_NAME "DESERT CENTER" *
QUADRANT NE *
NORTH_LATITUDE 33 45 00.000 *
WEST_LONGITUDE -115 26 15.000 *
SOUTH_LATITUDE 33 41 15.000 *
EAST_LONGITUDE -115 22 30.000 *
PRODUCTION_DATE 1998 04 02 *
RASTER_ORDER LEFT_RIGHT/TOP_BOTTOM *
BAND_ORGANIZATION BIP *
BAND_CONTENT RED *
BAND_CONTENT GREEN *
BAND_CONTENT BLUE *
BITS_PER_PIXEL 8 *
SAMPLES_AND_LINES 6600 7650 *
HORIZONTAL_DATUM NAD83 *
HORIZONTAL_COORDINATE_SYSTEM UTM *
COORDINATE_ZONE 11 *
HORIZONTAL_UNITS METERS *
HORIZONTAL_RESOLUTION 1.000 *
SECONDARY_HORIZONTAL_DATUM NAD27 *
XY_ORIGIN 644340.000 3735930.000 *
SECONDARY_XY_ORIGIN 644418.971 3735735.583 *
NATION US *
STATE CA *
NW_QUAD_CORNER_XY 644721.744 3735533.527 *
NE_QUAD_CORNER_XY 650511.201 3735623.020 *
SE_QUAD_CORNER_XY 650620.346 3728692.383 *
SW_QUAD_CORNER_XY 644826.688 3728602.971 *
SECONDARY_NW_QUAD_XY 644724.982 3735339.911 *
SECONDARY_NE_QUAD_XY 650514.568 3735429.406 *
SECONDARY_SE_QUAD_XY 650623.710 3728498.972 *
SECONDARY_SW_QUAD_XY 644829.923 3728409.559 *
RMSE_XY 1.080 *
IMAGE_SOURCE "CIR FILM" *
SOURCE_IMAGE_ID "NAPP 9567 65" *
SOURCE_IMAGE_DATE 1996 06 21 *
SOURCE_DEM_DATE 1986 01 01 *
AGENCY "WESTERN MAPPING CENTER (WMC)" *
PRODUCER "ANALYTICAL SURVEYS INC." *
PRODUCTION_SYSTEM "ORBIT OR_RECTIFY V.5.2" *
STANDARD_VERSION 1996 12 *
METADATA_DATE 1998 04 03 *
DATA_FILE_SIZE 151489800 *
BYTE_COUNT 19800 * * * * * * * * * * * * * * * * * * * * * * * * * * * * * * * * * * * * * * * * * * * * * * * * * * * * * * * * * * * * * * * * * * * * * * * * * * * * * * * * * * * * * * * * * * * * * * * * * * * * * * * * * * * * * * * * * * * * * * * * * * * * * * * * * * * * * * * * * * * * * * * * * * * * * * * * * * * * * * * * * * * * * * * * * * * * * * * * * * * * * * * * * * * * * * * * * * * * * * * * * * *
END_USGS_HEADER *
