BEGIN_USGS_DOQ_HEADER *
QUADRANGLE_NAME "COTTONWOOD SPRING" *
QUADRANT SE *
NORTH_LATITUDE 33 41 15.000 *
WEST_LONGITUDE -115 48 45.000 *
SOUTH_LATITUDE 33 37 30.000 *
EAST_LONGITUDE -115 45 00.000 *
PRODUCTION_DATE 1998 03 28 *
RASTER_ORDER LEFT_RIGHT/TOP_BOTTOM *
BAND_ORGANIZATION BIP *
BAND_CONTENT RED *
BAND_CONTENT GREEN *
BAND_CONTENT BLUE *
BITS_PER_PIXEL 8 *
SAMPLES_AND_LINES 6600 7620 *
HORIZONTAL_DATUM NAD83 *
HORIZONTAL_COORDINATE_SYSTEM UTM *
COORDINATE_ZONE 11 *
HORIZONTAL_UNITS METERS *
HORIZONTAL_RESOLUTION 1.000 *
SECONDARY_HORIZONTAL_DATUM NAD27 *
XY_ORIGIN 609660.000 3728520.000 *
SECONDARY_XY_ORIGIN 609739.079 3728325.317 *
NATION US *
STATE CA *
NW_QUAD_CORNER_XY 610066.048 3728140.182 *
NE_QUAD_CORNER_XY 615859.345 3728208.544 *
SE_QUAD_CORNER_XY 615943.151 3721278.413 *
SW_QUAD_CORNER_XY 610145.661 3721210.114 *
SECONDARY_NW_QUAD_XY 610068.506 3727946.759 *
SECONDARY_NE_QUAD_XY 615861.933 3728015.123 *
SECONDARY_SE_QUAD_XY 615945.736 3721085.197 *
SECONDARY_SW_QUAD_XY 610148.117 3721016.897 *
RMSE_XY 0.902 *
IMAGE_SOURCE "CIR FILM" *
SOURCE_IMAGE_ID "NAPP 9567 177" *
SOURCE_IMAGE_DATE 1996 06 21 *
SOURCE_DEM_DATE 1988 01 01 *
AGENCY "WESTERN MAPPING CENTER (WMC)" *
PRODUCER "ANALYTICAL SURVEYS INC." *
PRODUCTION_SYSTEM "ORBIT OR_RECTIFY V.5.2" *
STANDARD_VERSION 1996 12 *
METADATA_DATE 1998 03 28 *
DATA_FILE_SIZE 150895800 *
BYTE_COUNT 19800 * * * * * * * * * * * * * * * * * * * * * * * * * * * * * * * * * * * * * * * * * * * * * * * * * * * * * * * * * * * * * * * * * * * * * * * * * * * * * * * * * * * * * * * * * * * * * * * * * * * * * * * * * * * * * * * * * * * * * * * * * * * * * * * * * * * * * * * * * * * * * * * * * * * * * * * * * * * * * * * * * * * * * * * * * * * * * * * * * * * * * * * * * * * * * * * * * * * * * * * * * * *
END_USGS_HEADER *
