BEGIN_USGS_DOQ_HEADER *
QUADRANGLE_NAME "COTTONWOOD BASIN" *
QUADRANT NW *
NORTH_LATITUDE 33 45 00.000 *
WEST_LONGITUDE -116 00 00.000 *
SOUTH_LATITUDE 33 41 15.000 *
EAST_LONGITUDE -115 56 15.000 *
PRODUCTION_DATE 1998 03 30 *
RASTER_ORDER LEFT_RIGHT/TOP_BOTTOM *
BAND_ORGANIZATION BIP *
BAND_CONTENT RED *
BAND_CONTENT GREEN *
BAND_CONTENT BLUE *
BITS_PER_PIXEL 8 *
SAMPLES_AND_LINES 6570 7620 *
HORIZONTAL_DATUM NAD83 *
HORIZONTAL_COORDINATE_SYSTEM UTM *
COORDINATE_ZONE 11 *
HORIZONTAL_UNITS METERS *
HORIZONTAL_RESOLUTION 1.000 *
SECONDARY_HORIZONTAL_DATUM NAD27 *
XY_ORIGIN 592230.000 3735270.000 *
SECONDARY_XY_ORIGIN 592309.179 3735075.086 *
NATION US *
STATE CA *
NW_QUAD_CORNER_XY 592619.301 3734886.107 *
NE_QUAD_CORNER_XY 598408.256 3734944.000 *
SE_QUAD_CORNER_XY 598479.603 3728013.980 *
SW_QUAD_CORNER_XY 592686.450 3727956.139 *
SECONDARY_NW_QUAD_XY 592621.373 3734692.476 *
SECONDARY_NE_QUAD_XY 598410.457 3734750.371 *
SECONDARY_SE_QUAD_XY 598481.802 3727820.555 *
SECONDARY_SW_QUAD_XY 592688.520 3727762.713 *
RMSE_XY 1.233 *
IMAGE_SOURCE "CIR FILM" *
SOURCE_IMAGE_ID "NAPP 9568 34" *
SOURCE_IMAGE_DATE 1996 06 21 *
SOURCE_DEM_DATE 1988 01 01 *
AGENCY "WESTERN MAPPING CENTER (WMC)" *
PRODUCER "ANALYTICAL SURVEYS INC." *
PRODUCTION_SYSTEM "ORBIT OR_RECTIFY V.5.2" *
STANDARD_VERSION 1996 12 *
METADATA_DATE 1998 03 30 *
DATA_FILE_SIZE 150209910 *
BYTE_COUNT 19710 * * * * * * * * * * * * * * * * * * * * * * * * * * * * * * * * * * * * * * * * * * * * * * * * * * * * * * * * * * * * * * * * * * * * * * * * * * * * * * * * * * * * * * * * * * * * * * * * * * * * * * * * * * * * * * * * * * * * * * * * * * * * * * * * * * * * * * * * * * * * * * * * * * * * * * * * * * * * * * * * * * * * * * * * * * * * * * * * * * * * * * * * * * * * * * * * * * * * * * * * * *
END_USGS_HEADER *
