BEGIN_USGS_DOQ_HEADER *
QUADRANGLE_NAME "BUZZARD SPRING" *
QUADRANT NW *
NORTH_LATITUDE 33 52 30.000 *
WEST_LONGITUDE -115 37 30.000 *
SOUTH_LATITUDE 33 48 45.000 *
EAST_LONGITUDE -115 33 45.000 *
PRODUCTION_DATE 1998 03 31 *
RASTER_ORDER LEFT_RIGHT/TOP_BOTTOM *
BAND_ORGANIZATION BIP *
BAND_CONTENT RED *
BAND_CONTENT GREEN *
BAND_CONTENT BLUE *
BITS_PER_PIXEL 8 *
SAMPLES_AND_LINES 6570 7650 *
HORIZONTAL_DATUM NAD83 *
HORIZONTAL_COORDINATE_SYSTEM UTM *
COORDINATE_ZONE 11 *
HORIZONTAL_UNITS METERS *
HORIZONTAL_RESOLUTION 1.000 *
SECONDARY_HORIZONTAL_DATUM NAD27 *
XY_ORIGIN 626790.000 3749550.000 *
SECONDARY_XY_ORIGIN 626868.866 3749355.669 *
NATION US *
STATE CA *
NW_QUAD_CORNER_XY 627168.620 3749146.983 *
NE_QUAD_CORNER_XY 632949.465 3749226.082 *
SE_QUAD_CORNER_XY 633046.325 3742295.547 *
SW_QUAD_CORNER_XY 627261.266 3742216.519 *
SECONDARY_NW_QUAD_XY 627171.475 3748952.954 *
SECONDARY_NE_QUAD_XY 632952.449 3749032.055 *
SECONDARY_SE_QUAD_XY 633049.306 3742101.723 *
SECONDARY_SW_QUAD_XY 627264.118 3742022.693 *
RMSE_XY 1.588 *
IMAGE_SOURCE "CIR FILM" *
SOURCE_IMAGE_ID "NAPP 9567 128" *
SOURCE_IMAGE_DATE 1996 06 21 *
SOURCE_DEM_DATE 1986 01 01 *
AGENCY "WESTERN MAPPING CENTER (WMC)" *
PRODUCER "ANALYTICAL SURVEYS INC." *
PRODUCTION_SYSTEM "ORBIT OR_RECTIFY V.5.2" *
STANDARD_VERSION 1996 12 *
METADATA_DATE 1998 04 01 *
DATA_FILE_SIZE 150801210 *
BYTE_COUNT 19710 * * * * * * * * * * * * * * * * * * * * * * * * * * * * * * * * * * * * * * * * * * * * * * * * * * * * * * * * * * * * * * * * * * * * * * * * * * * * * * * * * * * * * * * * * * * * * * * * * * * * * * * * * * * * * * * * * * * * * * * * * * * * * * * * * * * * * * * * * * * * * * * * * * * * * * * * * * * * * * * * * * * * * * * * * * * * * * * * * * * * * * * * * * * * * * * * * * * * * * * * * *
END_USGS_HEADER *
