BEGIN_USGS_DOQ_HEADER *
QUADRANGLE_NAME "BUZZARD SPRING" *
QUADRANT SE *
NORTH_LATITUDE 33 48 45.000 *
WEST_LONGITUDE -115 33 45.000 *
SOUTH_LATITUDE 33 45 00.000 *
EAST_LONGITUDE -115 30 00.000 *
PRODUCTION_DATE 1998 03 31 *
RASTER_ORDER LEFT_RIGHT/TOP_BOTTOM *
BAND_ORGANIZATION BIP *
BAND_CONTENT RED *
BAND_CONTENT GREEN *
BAND_CONTENT BLUE *
BITS_PER_PIXEL 8 *
SAMPLES_AND_LINES 6570 7620 *
HORIZONTAL_DATUM NAD83 *
HORIZONTAL_COORDINATE_SYSTEM UTM *
COORDINATE_ZONE 11 *
HORIZONTAL_UNITS METERS *
HORIZONTAL_RESOLUTION 1.000 *
SECONDARY_HORIZONTAL_DATUM NAD27 *
XY_ORIGIN 632670.000 3742680.000 *
SECONDARY_XY_ORIGIN 632748.927 3742485.609 *
NATION US *
STATE CA *
NW_QUAD_CORNER_XY 633046.325 3742295.547 *
NE_QUAD_CORNER_XY 638831.444 3742378.090 *
SE_QUAD_CORNER_XY 638932.353 3735447.547 *
SW_QUAD_CORNER_XY 633143.026 3735365.078 *
SECONDARY_NW_QUAD_XY 633049.306 3742101.723 *
SECONDARY_NE_QUAD_XY 638834.555 3742184.268 *
SECONDARY_SE_QUAD_XY 638935.461 3735253.929 *
SECONDARY_SW_QUAD_XY 633146.005 3735171.458 *
RMSE_XY 2.012 *
IMAGE_SOURCE "CIR FILM" *
SOURCE_IMAGE_ID "NAPP 9567 105" *
SOURCE_IMAGE_DATE 1996 06 21 *
SOURCE_DEM_DATE 1986 01 01 *
AGENCY "WESTERN MAPPING CENTER (WMC)" *
PRODUCER "ANALYTICAL SURVEYS INC." *
PRODUCTION_SYSTEM "ORBIT OR_RECTIFY V.5.2" *
STANDARD_VERSION 1996 12 *
METADATA_DATE 1998 04 01 *
DATA_FILE_SIZE 150209910 *
BYTE_COUNT 19710 * * * * * * * * * * * * * * * * * * * * * * * * * * * * * * * * * * * * * * * * * * * * * * * * * * * * * * * * * * * * * * * * * * * * * * * * * * * * * * * * * * * * * * * * * * * * * * * * * * * * * * * * * * * * * * * * * * * * * * * * * * * * * * * * * * * * * * * * * * * * * * * * * * * * * * * * * * * * * * * * * * * * * * * * * * * * * * * * * * * * * * * * * * * * * * * * * * * * * * * * * *
END_USGS_HEADER *
