BEGIN_USGS_DOQ_HEADER *
QUADRANGLE_NAME "PORCUPINE WASH" *
QUADRANT SE *
NORTH_LATITUDE 33 48 45.000 *
WEST_LONGITUDE -115 48 45.000 *
SOUTH_LATITUDE 33 45 00.000 *
EAST_LONGITUDE -115 45 00.000 *
PRODUCTION_DATE 1998 03 28 *
RASTER_ORDER LEFT_RIGHT/TOP_BOTTOM *
BAND_ORGANIZATION BIP *
BAND_CONTENT RED *
BAND_CONTENT GREEN *
BAND_CONTENT BLUE *
BITS_PER_PIXEL 8 *
SAMPLES_AND_LINES 6570 7620 *
HORIZONTAL_DATUM NAD83 *
HORIZONTAL_COORDINATE_SYSTEM UTM *
COORDINATE_ZONE 11 *
HORIZONTAL_UNITS METERS *
HORIZONTAL_RESOLUTION 1.000 *
SECONDARY_HORIZONTAL_DATUM NAD27 *
XY_ORIGIN 609510.000 3742380.000 *
SECONDARY_XY_ORIGIN 609588.961 3742185.505 *
NATION US *
STATE CA *
NW_QUAD_CORNER_XY 609906.428 3742000.519 *
NE_QUAD_CORNER_XY 615691.320 3742069.005 *
SE_QUAD_CORNER_XY 615775.402 3735138.741 *
SW_QUAD_CORNER_XY 609986.304 3735070.317 *
SECONDARY_NW_QUAD_XY 609908.891 3741806.689 *
SECONDARY_NE_QUAD_XY 615693.913 3741875.176 *
SECONDARY_SE_QUAD_XY 615777.992 3734945.116 *
SECONDARY_SW_QUAD_XY 609988.764 3734876.690 *
RMSE_XY 1.952 *
IMAGE_SOURCE "CIR FILM" *
SOURCE_IMAGE_ID "NAPP 9567 181" *
SOURCE_IMAGE_DATE 1996 06 21 *
SOURCE_DEM_DATE 1986 01 01 *
AGENCY "WESTERN MAPPING CENTER (WMC)" *
PRODUCER "ANALYTICAL SURVEYS INC." *
PRODUCTION_SYSTEM "ORBIT OR_RECTIFY V.5.2" *
STANDARD_VERSION 1996 12 *
METADATA_DATE 1998 03 30 *
DATA_FILE_SIZE 150209910 *
BYTE_COUNT 19710 * * * * * * * * * * * * * * * * * * * * * * * * * * * * * * * * * * * * * * * * * * * * * * * * * * * * * * * * * * * * * * * * * * * * * * * * * * * * * * * * * * * * * * * * * * * * * * * * * * * * * * * * * * * * * * * * * * * * * * * * * * * * * * * * * * * * * * * * * * * * * * * * * * * * * * * * * * * * * * * * * * * * * * * * * * * * * * * * * * * * * * * * * * * * * * * * * * * * * * * * * *
END_USGS_HEADER *
