BEGIN_USGS_DOQ_HEADER *
QUADRANGLE_NAME "WEST OF PALEN PASS" *
QUADRANT NW *
NORTH_LATITUDE 34 00 00.000 *
WEST_LONGITUDE -115 15 00.000 *
SOUTH_LATITUDE 33 56 15.000 *
EAST_LONGITUDE -115 11 15.000 *
PRODUCTION_DATE 1998 04 06 *
RASTER_ORDER LEFT_RIGHT/TOP_BOTTOM *
BAND_ORGANIZATION BIP *
BAND_CONTENT RED *
BAND_CONTENT GREEN *
BAND_CONTENT BLUE *
BITS_PER_PIXEL 8 *
SAMPLES_AND_LINES 6600 7650 *
HORIZONTAL_DATUM NAD83 *
HORIZONTAL_COORDINATE_SYSTEM UTM *
COORDINATE_ZONE 11 *
HORIZONTAL_UNITS METERS *
HORIZONTAL_RESOLUTION 1.000 *
SECONDARY_HORIZONTAL_DATUM NAD27 *
XY_ORIGIN 661230.000 3763950.000 *
SECONDARY_XY_ORIGIN 661308.908 3763755.436 *
NATION US *
STATE CA *
NW_QUAD_CORNER_XY 661618.197 3763536.420 *
NE_QUAD_CORNER_XY 667390.991 3763636.810 *
SE_QUAD_CORNER_XY 667513.542 3756705.656 *
SW_QUAD_CORNER_XY 661736.519 3756605.355 *
SECONDARY_NW_QUAD_XY 661621.838 3763342.000 *
SECONDARY_NE_QUAD_XY 667394.761 3763442.393 *
SECONDARY_SE_QUAD_XY 667517.309 3756511.440 *
SECONDARY_SW_QUAD_XY 661740.155 3756411.136 *
RMSE_XY 0.684 *
IMAGE_SOURCE "CIR FILM" *
SOURCE_IMAGE_ID "NAPP 9563 207" *
SOURCE_IMAGE_DATE 1996 06 15 *
SOURCE_DEM_DATE 1983 01 01 *
AGENCY "WESTERN MAPPING CENTER (WMC)" *
PRODUCER "ANALYTICAL SURVEYS INC." *
PRODUCTION_SYSTEM "ORBIT OR_RECTIFY V.5.2" *
STANDARD_VERSION 1996 12 *
METADATA_DATE 1998 04 07 *
DATA_FILE_SIZE 151489800 *
BYTE_COUNT 19800 * * * * * * * * * * * * * * * * * * * * * * * * * * * * * * * * * * * * * * * * * * * * * * * * * * * * * * * * * * * * * * * * * * * * * * * * * * * * * * * * * * * * * * * * * * * * * * * * * * * * * * * * * * * * * * * * * * * * * * * * * * * * * * * * * * * * * * * * * * * * * * * * * * * * * * * * * * * * * * * * * * * * * * * * * * * * * * * * * * * * * * * * * * * * * * * * * * * * * * * * * * *
END_USGS_HEADER *
