BEGIN_USGS_DOQ_HEADER *
QUADRANGLE_NAME "COXCOMB MOUNTAINS" *
QUADRANT SW *
NORTH_LATITUDE 33 56 15.000 *
WEST_LONGITUDE -115 22 30.000 *
SOUTH_LATITUDE 33 52 30.000 *
EAST_LONGITUDE -115 18 45.000 *
PRODUCTION_DATE 1998 04 08 *
RASTER_ORDER LEFT_RIGHT/TOP_BOTTOM *
BAND_ORGANIZATION BIP *
BAND_CONTENT RED *
BAND_CONTENT GREEN *
BAND_CONTENT BLUE *
BITS_PER_PIXEL 8 *
SAMPLES_AND_LINES 6600 7650 *
HORIZONTAL_DATUM NAD83 *
HORIZONTAL_COORDINATE_SYSTEM UTM *
COORDINATE_ZONE 11 *
HORIZONTAL_UNITS METERS *
HORIZONTAL_RESOLUTION 1.000 *
SECONDARY_HORIZONTAL_DATUM NAD27 *
XY_ORIGIN 649800.000 3756810.000 *
SECONDARY_XY_ORIGIN 649878.851 3756615.569 *
NATION US *
STATE CA *
NW_QUAD_CORNER_XY 650182.689 3756415.320 *
NE_QUAD_CORNER_XY 655959.568 3756508.576 *
SE_QUAD_CORNER_XY 656073.474 3749577.662 *
SW_QUAD_CORNER_XY 650292.372 3749484.489 *
SECONDARY_NW_QUAD_XY 650186.066 3756221.098 *
SECONDARY_NE_QUAD_XY 655963.075 3756314.356 *
SECONDARY_SE_QUAD_XY 656076.978 3749383.643 *
SECONDARY_SW_QUAD_XY 650295.746 3749290.468 *
RMSE_XY 2.419 *
IMAGE_SOURCE "CIR FILM" *
SOURCE_IMAGE_ID "NAPP 9567 43" *
SOURCE_IMAGE_DATE 1996 06 21 *
SOURCE_DEM_DATE 1987 01 01 *
AGENCY "WESTERN MAPPING CENTER (WMC)" *
PRODUCER "ANALYTICAL SURVEYS INC." *
PRODUCTION_SYSTEM "ORBIT OR_RECTIFY V.5.2" *
STANDARD_VERSION 1996 12 *
METADATA_DATE 1998 04 09 *
DATA_FILE_SIZE 151489800 *
BYTE_COUNT 19800 * * * * * * * * * * * * * * * * * * * * * * * * * * * * * * * * * * * * * * * * * * * * * * * * * * * * * * * * * * * * * * * * * * * * * * * * * * * * * * * * * * * * * * * * * * * * * * * * * * * * * * * * * * * * * * * * * * * * * * * * * * * * * * * * * * * * * * * * * * * * * * * * * * * * * * * * * * * * * * * * * * * * * * * * * * * * * * * * * * * * * * * * * * * * * * * * * * * * * * * * * * *
END_USGS_HEADER *
