BEGIN_USGS_DOQ_HEADER *
QUADRANGLE_NAME "SAN BERNARDINO WASH" *
QUADRANT SE *
NORTH_LATITUDE 33 56 15.000 *
WEST_LONGITUDE -115 41 15.000 *
SOUTH_LATITUDE 33 52 30.000 *
EAST_LONGITUDE -115 37 30.000 *
PRODUCTION_DATE 1998 04 06 *
RASTER_ORDER LEFT_RIGHT/TOP_BOTTOM *
BAND_ORGANIZATION BIP *
BAND_CONTENT RED *
BAND_CONTENT GREEN *
BAND_CONTENT BLUE *
BITS_PER_PIXEL 8 *
SAMPLES_AND_LINES 6570 7620 *
HORIZONTAL_DATUM NAD83 *
HORIZONTAL_COORDINATE_SYSTEM UTM *
COORDINATE_ZONE 11 *
HORIZONTAL_UNITS METERS *
HORIZONTAL_RESOLUTION 1.000 *
SECONDARY_HORIZONTAL_DATUM NAD27 *
XY_ORIGIN 620910.000 3756390.000 *
SECONDARY_XY_ORIGIN 620988.827 3756195.770 *
NATION US *
STATE CA *
NW_QUAD_CORNER_XY 621299.256 3756001.864 *
NE_QUAD_CORNER_XY 627075.822 3756077.513 *
SE_QUAD_CORNER_XY 627168.620 3749146.983 *
SW_QUAD_CORNER_XY 621387.833 3749071.401 *
SECONDARY_NW_QUAD_XY 621301.983 3755807.632 *
SECONDARY_NE_QUAD_XY 627078.680 3755883.283 *
SECONDARY_SE_QUAD_XY 627171.475 3748952.954 *
SECONDARY_SW_QUAD_XY 621390.558 3748877.371 *
RMSE_XY 1.600 *
IMAGE_SOURCE "CIR FILM" *
SOURCE_IMAGE_ID "NAPP 9567 147" *
SOURCE_IMAGE_DATE 1996 06 21 *
SOURCE_DEM_DATE 1986 01 01 *
AGENCY "WESTERN MAPPING CENTER (WMC)" *
PRODUCER "ANALYTICAL SURVEYS INC." *
PRODUCTION_SYSTEM "ORBIT OR_RECTIFY V.5.2" *
STANDARD_VERSION 1996 12 *
METADATA_DATE 1998 04 06 *
DATA_FILE_SIZE 150209910 *
BYTE_COUNT 19710 * * * * * * * * * * * * * * * * * * * * * * * * * * * * * * * * * * * * * * * * * * * * * * * * * * * * * * * * * * * * * * * * * * * * * * * * * * * * * * * * * * * * * * * * * * * * * * * * * * * * * * * * * * * * * * * * * * * * * * * * * * * * * * * * * * * * * * * * * * * * * * * * * * * * * * * * * * * * * * * * * * * * * * * * * * * * * * * * * * * * * * * * * * * * * * * * * * * * * * * * * *
END_USGS_HEADER *
