BEGIN_USGS_DOQ_HEADER *
QUADRANGLE_NAME "PINTO MOUNTAIN" *
QUADRANT NW *
NORTH_LATITUDE 34 00 00.000 *
WEST_LONGITUDE -115 52 30.000 *
SOUTH_LATITUDE 33 56 15.000 *
EAST_LONGITUDE -115 48 45.000 *
PRODUCTION_DATE 1998 03 30 *
RASTER_ORDER LEFT_RIGHT/TOP_BOTTOM *
BAND_ORGANIZATION BIP *
BAND_CONTENT RED *
BAND_CONTENT GREEN *
BAND_CONTENT BLUE *
BITS_PER_PIXEL 8 *
SAMPLES_AND_LINES 6540 7620 *
HORIZONTAL_DATUM NAD83 *
HORIZONTAL_COORDINATE_SYSTEM UTM *
COORDINATE_ZONE 11 *
HORIZONTAL_UNITS METERS *
HORIZONTAL_RESOLUTION 1.000 *
SECONDARY_HORIZONTAL_DATUM NAD27 *
XY_ORIGIN 603510.000 3763110.000 *
SECONDARY_XY_ORIGIN 603588.917 3762915.865 *
NATION US *
STATE CA *
NW_QUAD_CORNER_XY 603893.833 3762726.384 *
NE_QUAD_CORNER_XY 609666.017 3762791.531 *
SE_QUAD_CORNER_XY 609746.285 3755861.126 *
SW_QUAD_CORNER_XY 603969.875 3755796.038 *
SECONDARY_NW_QUAD_XY 603896.173 3762531.946 *
SECONDARY_NE_QUAD_XY 609668.486 3762597.094 *
SECONDARY_SE_QUAD_XY 609748.752 3755666.891 *
SECONDARY_SW_QUAD_XY 603972.212 3755601.801 *
RMSE_XY 2.365 *
IMAGE_SOURCE "CIR FILM" *
SOURCE_IMAGE_ID "NAPP 9567 201" *
SOURCE_IMAGE_DATE 1996 06 21 *
SOURCE_IMAGE_ID "NAPP 9567 203" *
SOURCE_IMAGE_DATE 1996 06 21 *
SOURCE_DEM_DATE 1988 01 01 *
AGENCY "WESTERN MAPPING CENTER (WMC)" *
PRODUCER "ANALYTICAL SURVEYS INC." *
PRODUCTION_SYSTEM "ORBIT OR_RECTIFY V.5.2" *
STANDARD_VERSION 1996 12 *
METADATA_DATE 1998 03 30 *
DATA_FILE_SIZE 149524020 *
BYTE_COUNT 19620 * * * * * * * * * * * * * * * * * * * * * * * * * * * * * * * * * * * * * * * * * * * * * * * * * * * * * * * * * * * * * * * * * * * * * * * * * * * * * * * * * * * * * * * * * * * * * * * * * * * * * * * * * * * * * * * * * * * * * * * * * * * * * * * * * * * * * * * * * * * * * * * * * * * * * * * * * * * * * * * * * * * * * * * * * * * * * * * * * * * * * * * * * * * * * * * * * * * * * * *
END_USGS_HEADER *
