BEGIN_USGS_DOQ_HEADER *
QUADRANGLE_NAME "HARPER CANYON" *
QUADRANT NW *
NORTH_LATITUDE 33 07 30.000 *
WEST_LONGITUDE -116 15 00.000 *
SOUTH_LATITUDE 33 03 45.000 *
EAST_LONGITUDE -116 11 15.000 *
PRODUCTION_DATE 1998 03 10 *
RASTER_ORDER LEFT_RIGHT/TOP_BOTTOM *
BAND_ORGANIZATION BIP *
BAND_CONTENT RED *
BAND_CONTENT GREEN *
BAND_CONTENT BLUE *
BITS_PER_PIXEL 8 *
SAMPLES_AND_LINES 6570 7620 *
HORIZONTAL_DATUM NAD83 *
HORIZONTAL_COORDINATE_SYSTEM UTM *
COORDINATE_ZONE 11 *
HORIZONTAL_UNITS METERS *
HORIZONTAL_RESOLUTION 1.000 *
SECONDARY_HORIZONTAL_DATUM NAD27 *
XY_ORIGIN 569580.000 3665760.000 *
SECONDARY_XY_ORIGIN 569660.163 3665564.152 *
NATION US *
STATE CA *
NW_QUAD_CORNER_XY 569963.725 3665394.837 *
NE_QUAD_CORNER_XY 575794.188 3665438.284 *
SE_QUAD_CORNER_XY 575847.843 3658509.141 *
SW_QUAD_CORNER_XY 570013.252 3658465.735 *
SECONDARY_NW_QUAD_XY 569965.264 3665203.281 *
SECONDARY_NE_QUAD_XY 575795.855 3665246.729 *
SECONDARY_SE_QUAD_XY 575849.509 3658317.797 *
SECONDARY_SW_QUAD_XY 570014.789 3658274.391 *
RMSE_XY 3.018 *
IMAGE_SOURCE "CIR FILM" *
SOURCE_IMAGE_ID "NAPP 9571 54" *
SOURCE_IMAGE_DATE 1996 09 26 *
SOURCE_IMAGE_ID "NAPP 9571 55" *
SOURCE_IMAGE_DATE 1996 09 26 *
SOURCE_IMAGE_ID "NAPP 9566 22" *
SOURCE_IMAGE_DATE 1996 06 16 *
SOURCE_IMAGE_ID "NAPP 9571 56" *
SOURCE_IMAGE_DATE 1996 09 26 *
SOURCE_DEM_DATE 1978 01 01 *
AGENCY "WESTERN MAPPING CENTER (WMC)" *
PRODUCER "ANALYTICAL SURVEYS INC." *
PRODUCTION_SYSTEM "ORBIT OR_RECTIFY V.5.2" *
STANDARD_VERSION 1996 12 *
METADATA_DATE 1998 03 11 *
DATA_FILE_SIZE 150209910 *
BYTE_COUNT 19710 * * * * * * * * * * * * * * * * * * * * * * * * * * * * * * * * * * * * * * * * * * * * * * * * * * * * * * * * * * * * * * * * * * * * * * * * * * * * * * * * * * * * * * * * * * * * * * * * * * * * * * * * * * * * * * * * * * * * * * * * * * * * * * * * * * * * * * * * * * * * * * * * * * * * * * * * * * * * * * * * * * * * * * * * * * * * * * * * * * * * * * * * * * * * * * * * * * * *
END_USGS_HEADER *
