BEGIN_USGS_DOQ_HEADER *
QUADRANGLE_NAME "WHALE PEAK" *
QUADRANT NE *
NORTH_LATITUDE 33 07 30.000 *
WEST_LONGITUDE -116 18 45.000 *
SOUTH_LATITUDE 33 03 45.000 *
EAST_LONGITUDE -116 15 00.000 *
PRODUCTION_DATE 1998 03 06 *
RASTER_ORDER LEFT_RIGHT/TOP_BOTTOM *
BAND_ORGANIZATION BIP *
BAND_CONTENT RED *
BAND_CONTENT GREEN *
BAND_CONTENT BLUE *
BITS_PER_PIXEL 8 *
SAMPLES_AND_LINES 6600 7590 *
HORIZONTAL_DATUM NAD83 *
HORIZONTAL_COORDINATE_SYSTEM UTM *
COORDINATE_ZONE 11 *
HORIZONTAL_UNITS METERS *
HORIZONTAL_RESOLUTION 1.000 *
SECONDARY_HORIZONTAL_DATUM NAD27 *
XY_ORIGIN 563730.000 3665700.000 *
SECONDARY_XY_ORIGIN 563810.214 3665504.140 *
NATION US *
STATE CA *
NW_QUAD_CORNER_XY 564133.296 3665354.866 *
NE_QUAD_CORNER_XY 569963.725 3665394.837 *
SE_QUAD_CORNER_XY 570013.252 3658465.735 *
SW_QUAD_CORNER_XY 564178.695 3658425.803 *
SECONDARY_NW_QUAD_XY 564134.706 3665163.309 *
SECONDARY_NE_QUAD_XY 569965.264 3665203.281 *
SECONDARY_SE_QUAD_XY 570014.789 3658274.391 *
SECONDARY_SW_QUAD_XY 564180.104 3658234.458 *
RMSE_XY 4.141 *
IMAGE_SOURCE "CIR FILM" *
SOURCE_IMAGE_ID "NAPP 9571 89" *
SOURCE_IMAGE_DATE 1996 09 26 *
SOURCE_DEM_DATE 1955 01 01 *
AGENCY "WESTERN MAPPING CENTER (WMC)" *
PRODUCER "ANALYTICAL SURVEYS INC." *
PRODUCTION_SYSTEM "ORBIT OR_RECTIFY V.5.2" *
STANDARD_VERSION 1996 12 *
METADATA_DATE 1998 03 08 *
DATA_FILE_SIZE 150301800 *
BYTE_COUNT 19800 * * * * * * * * * * * * * * * * * * * * * * * * * * * * * * * * * * * * * * * * * * * * * * * * * * * * * * * * * * * * * * * * * * * * * * * * * * * * * * * * * * * * * * * * * * * * * * * * * * * * * * * * * * * * * * * * * * * * * * * * * * * * * * * * * * * * * * * * * * * * * * * * * * * * * * * * * * * * * * * * * * * * * * * * * * * * * * * * * * * * * * * * * * * * * * * * * * * * * * * * * * *
END_USGS_HEADER *
