BEGIN_USGS_DOQ_HEADER *
QUADRANGLE_NAME "EARTHQUAKE VALLEY" *
QUADRANT NE *
NORTH_LATITUDE 33 07 30.000 *
WEST_LONGITUDE -116 26 15.000 *
SOUTH_LATITUDE 33 03 45.000 *
EAST_LONGITUDE -116 22 30.000 *
PRODUCTION_DATE 1998 03 06 *
RASTER_ORDER LEFT_RIGHT/TOP_BOTTOM *
BAND_ORGANIZATION BIP *
BAND_CONTENT RED *
BAND_CONTENT GREEN *
BAND_CONTENT BLUE *
BITS_PER_PIXEL 8 *
SAMPLES_AND_LINES 6570 7590 *
HORIZONTAL_DATUM NAD83 *
HORIZONTAL_COORDINATE_SYSTEM UTM *
COORDINATE_ZONE 11 *
HORIZONTAL_UNITS METERS *
HORIZONTAL_RESOLUTION 1.000 *
SECONDARY_HORIZONTAL_DATUM NAD27 *
XY_ORIGIN 552090.000 3665640.000 *
SECONDARY_XY_ORIGIN 552170.304 3665444.124 *
NATION US *
STATE CA *
NW_QUAD_CORNER_XY 552472.528 3665285.353 *
NE_QUAD_CORNER_XY 558302.898 3665318.372 *
SE_QUAD_CORNER_XY 558344.169 3658389.344 *
SW_QUAD_CORNER_XY 552509.671 3658356.357 *
SECONDARY_NW_QUAD_XY 552473.682 3665093.794 *
SECONDARY_NE_QUAD_XY 558304.180 3665126.813 *
SECONDARY_SE_QUAD_XY 558345.450 3658197.998 *
SECONDARY_SW_QUAD_XY 552510.824 3658165.010 *
RMSE_XY 2.992 *
IMAGE_SOURCE "CIR FILM" *
SOURCE_IMAGE_ID "NAPP 9552 201" *
SOURCE_IMAGE_DATE 1996 06 04 *
SOURCE_DEM_DATE 1955 01 01 *
AGENCY "WESTERN MAPPING CENTER (WMC)" *
PRODUCER "ANALYTICAL SURVEYS INC." *
PRODUCTION_SYSTEM "ORBIT OR_RECTIFY V.5.2" *
STANDARD_VERSION 1996 12 *
METADATA_DATE 1998 03 06 *
DATA_FILE_SIZE 149618610 *
BYTE_COUNT 19710 * * * * * * * * * * * * * * * * * * * * * * * * * * * * * * * * * * * * * * * * * * * * * * * * * * * * * * * * * * * * * * * * * * * * * * * * * * * * * * * * * * * * * * * * * * * * * * * * * * * * * * * * * * * * * * * * * * * * * * * * * * * * * * * * * * * * * * * * * * * * * * * * * * * * * * * * * * * * * * * * * * * * * * * * * * * * * * * * * * * * * * * * * * * * * * * * * * * * * * * * * *
END_USGS_HEADER *
