BEGIN_USGS_DOQ_HEADER *
QUADRANGLE_NAME "EARTHQUAKE VALLEY" *
QUADRANT SE *
NORTH_LATITUDE 33 03 45.000 *
WEST_LONGITUDE -116 26 15.000 *
SOUTH_LATITUDE 33 00 00.000 *
EAST_LONGITUDE -116 22 30.000 *
PRODUCTION_DATE 1998 03 06 *
RASTER_ORDER LEFT_RIGHT/TOP_BOTTOM *
BAND_ORGANIZATION BIP *
BAND_CONTENT RED *
BAND_CONTENT GREEN *
BAND_CONTENT BLUE *
BITS_PER_PIXEL 8 *
SAMPLES_AND_LINES 6570 7590 *
HORIZONTAL_DATUM NAD83 *
HORIZONTAL_COORDINATE_SYSTEM UTM *
COORDINATE_ZONE 11 *
HORIZONTAL_UNITS METERS *
HORIZONTAL_RESOLUTION 1.000 *
SECONDARY_HORIZONTAL_DATUM NAD27 *
XY_ORIGIN 552120.000 3658710.000 *
SECONDARY_XY_ORIGIN 552200.395 3658514.096 *
NATION US *
STATE CA *
NW_QUAD_CORNER_XY 552509.671 3658356.357 *
NE_QUAD_CORNER_XY 558344.169 3658389.344 *
SE_QUAD_CORNER_XY 558385.371 3651460.384 *
SW_QUAD_CORNER_XY 552546.752 3651427.430 *
SECONDARY_NW_QUAD_XY 552510.824 3658165.010 *
SECONDARY_NE_QUAD_XY 558345.450 3658197.998 *
SECONDARY_SE_QUAD_XY 558386.651 3651269.251 *
SECONDARY_SW_QUAD_XY 552547.904 3651236.296 *
RMSE_XY 2.137 *
IMAGE_SOURCE "CIR FILM" *
SOURCE_IMAGE_ID "NAPP 9552 203" *
SOURCE_IMAGE_DATE 1996 06 04 *
SOURCE_IMAGE_ID "NAPP 9553 26" *
SOURCE_IMAGE_DATE 1996 06 04 *
SOURCE_DEM_DATE 1955 01 01 *
AGENCY "WESTERN MAPPING CENTER (WMC)" *
PRODUCER "ANALYTICAL SURVEYS INC." *
PRODUCTION_SYSTEM "ORBIT OR_RECTIFY V.5.2" *
STANDARD_VERSION 1996 12 *
METADATA_DATE 1998 03 06 *
DATA_FILE_SIZE 149618610 *
BYTE_COUNT 19710 * * * * * * * * * * * * * * * * * * * * * * * * * * * * * * * * * * * * * * * * * * * * * * * * * * * * * * * * * * * * * * * * * * * * * * * * * * * * * * * * * * * * * * * * * * * * * * * * * * * * * * * * * * * * * * * * * * * * * * * * * * * * * * * * * * * * * * * * * * * * * * * * * * * * * * * * * * * * * * * * * * * * * * * * * * * * * * * * * * * * * * * * * * * * * * * * * * * * * * * *
END_USGS_HEADER *
