BEGIN_USGS_DOQ_HEADER *
QUADRANGLE_NAME "JULIAN" *
QUADRANT SE *
NORTH_LATITUDE 33 03 45.000 *
WEST_LONGITUDE -116 33 45.000 *
SOUTH_LATITUDE 33 00 00.000 *
EAST_LONGITUDE -116 30 00.000 *
PRODUCTION_DATE 1998 03 09 *
RASTER_ORDER LEFT_RIGHT/TOP_BOTTOM *
BAND_ORGANIZATION BIP *
BAND_CONTENT RED *
BAND_CONTENT GREEN *
BAND_CONTENT BLUE *
BITS_PER_PIXEL 8 *
SAMPLES_AND_LINES 6570 7590 *
HORIZONTAL_DATUM NAD83 *
HORIZONTAL_COORDINATE_SYSTEM UTM *
COORDINATE_ZONE 11 *
HORIZONTAL_UNITS METERS *
HORIZONTAL_RESOLUTION 1.000 *
SECONDARY_HORIZONTAL_DATUM NAD27 *
XY_ORIGIN 540450.000 3658650.000 *
SECONDARY_XY_ORIGIN 540530.430 3658454.039 *
NATION US *
STATE CA *
NW_QUAD_CORNER_XY 540840.750 3658300.802 *
NE_QUAD_CORNER_XY 546675.199 3658326.843 *
SE_QUAD_CORNER_XY 546708.160 3651397.945 *
SW_QUAD_CORNER_XY 540869.590 3651371.928 *
SECONDARY_NW_QUAD_XY 540841.646 3658109.454 *
SECONDARY_NE_QUAD_XY 546676.224 3658135.496 *
SECONDARY_SE_QUAD_XY 546709.184 3651206.810 *
SECONDARY_SW_QUAD_XY 540870.486 3651180.793 *
RMSE_XY 1.559 *
IMAGE_SOURCE "CIR FILM" *
SOURCE_IMAGE_ID "NAPP 9553 102" *
SOURCE_IMAGE_DATE 1996 06 04 *
SOURCE_IMAGE_ID "NAPP 9553 101" *
SOURCE_IMAGE_DATE 1996 06 04 *
SOURCE_DEM_DATE 1988 01 01 *
AGENCY "WESTERN MAPPING CENTER (WMC)" *
PRODUCER "ANALYTICAL SURVEYS INC." *
PRODUCTION_SYSTEM "ORBIT OR_RECTIFY V.5.2" *
STANDARD_VERSION 1996 12 *
METADATA_DATE 1998 03 09 *
DATA_FILE_SIZE 149618610 *
BYTE_COUNT 19710 * * * * * * * * * * * * * * * * * * * * * * * * * * * * * * * * * * * * * * * * * * * * * * * * * * * * * * * * * * * * * * * * * * * * * * * * * * * * * * * * * * * * * * * * * * * * * * * * * * * * * * * * * * * * * * * * * * * * * * * * * * * * * * * * * * * * * * * * * * * * * * * * * * * * * * * * * * * * * * * * * * * * * * * * * * * * * * * * * * * * * * * * * * * * * * * * * * * * * * * *
END_USGS_HEADER *
