BEGIN_USGS_DOQ_HEADER *
QUADRANGLE_NAME "SANTA YSABEL" *
QUADRANT SE *
NORTH_LATITUDE 33 03 45.000 *
WEST_LONGITUDE -116 41 15.000 *
SOUTH_LATITUDE 33 00 00.000 *
EAST_LONGITUDE -116 37 30.000 *
PRODUCTION_DATE 1998 03 03 *
RASTER_ORDER LEFT_RIGHT/TOP_BOTTOM *
BAND_ORGANIZATION BIP *
BAND_CONTENT RED *
BAND_CONTENT GREEN *
BAND_CONTENT BLUE *
BITS_PER_PIXEL 8 *
SAMPLES_AND_LINES 6570 7560 *
HORIZONTAL_DATUM NAD83 *
HORIZONTAL_COORDINATE_SYSTEM UTM *
COORDINATE_ZONE 11 *
HORIZONTAL_UNITS METERS *
HORIZONTAL_RESOLUTION 1.000 *
SECONDARY_HORIZONTAL_DATUM NAD27 *
XY_ORIGIN 528780.000 3658590.000 *
SECONDARY_XY_ORIGIN 528860.432 3658393.930 *
NATION US *
STATE CA *
NW_QUAD_CORNER_XY 529171.907 3658259.136 *
NE_QUAD_CORNER_XY 535006.320 3658278.233 *
SE_QUAD_CORNER_XY 535031.040 3651349.381 *
SW_QUAD_CORNER_XY 529192.507 3651330.303 *
SECONDARY_NW_QUAD_XY 529172.548 3658067.787 *
SECONDARY_NE_QUAD_XY 535007.089 3658086.884 *
SECONDARY_SE_QUAD_XY 535031.808 3651158.245 *
SECONDARY_SW_QUAD_XY 529193.147 3651139.167 *
RMSE_XY 1.953 *
IMAGE_SOURCE "CIR FILM" *
SOURCE_IMAGE_ID "NAPP 9553 198" *
SOURCE_IMAGE_DATE 1996 06 04 *
SOURCE_DEM_DATE 1988 01 01 *
AGENCY "WESTERN MAPPING CENTER (WMC)" *
PRODUCER "ANALYTICAL SURVEYS INC." *
PRODUCTION_SYSTEM "ORBIT OR_RECTIFY V.5.2" *
STANDARD_VERSION 1996 12 *
METADATA_DATE 1998 03 03 *
DATA_FILE_SIZE 149027310 *
BYTE_COUNT 19710 * * * * * * * * * * * * * * * * * * * * * * * * * * * * * * * * * * * * * * * * * * * * * * * * * * * * * * * * * * * * * * * * * * * * * * * * * * * * * * * * * * * * * * * * * * * * * * * * * * * * * * * * * * * * * * * * * * * * * * * * * * * * * * * * * * * * * * * * * * * * * * * * * * * * * * * * * * * * * * * * * * * * * * * * * * * * * * * * * * * * * * * * * * * * * * * * * * * * * * * * * *
END_USGS_HEADER *
