BEGIN_USGS_DOQ_HEADER *
QUADRANGLE_NAME "RAMONA" *
QUADRANT NW *
NORTH_LATITUDE 33 07 30.000 *
WEST_LONGITUDE -116 52 30.000 *
SOUTH_LATITUDE 33 03 45.000 *
EAST_LONGITUDE -116 48 45.000 *
PRODUCTION_DATE 1998 03 02 *
RASTER_ORDER LEFT_RIGHT/TOP_BOTTOM *
BAND_ORGANIZATION BIP *
BAND_CONTENT RED *
BAND_CONTENT GREEN *
BAND_CONTENT BLUE *
BITS_PER_PIXEL 8 *
SAMPLES_AND_LINES 6570 7590 *
HORIZONTAL_DATUM NAD83 *
HORIZONTAL_COORDINATE_SYSTEM UTM *
COORDINATE_ZONE 11 *
HORIZONTAL_UNITS METERS *
HORIZONTAL_RESOLUTION 1.000 *
SECONDARY_HORIZONTAL_DATUM NAD27 *
XY_ORIGIN 511260.000 3665490.000 *
SECONDARY_XY_ORIGIN 511340.440 3665293.939 *
NATION US *
STATE CA *
NW_QUAD_CORNER_XY 511660.489 3665151.546 *
NE_QUAD_CORNER_XY 517490.741 3665160.234 *
SE_QUAD_CORNER_XY 517503.122 3658231.359 *
SW_QUAD_CORNER_XY 511668.743 3658222.679 *
SECONDARY_NW_QUAD_XY 511660.746 3664959.984 *
SECONDARY_NE_QUAD_XY 517491.126 3664968.672 *
SECONDARY_SE_QUAD_XY 517503.506 3658040.009 *
SECONDARY_SW_QUAD_XY 511668.999 3658031.329 *
RMSE_XY 1.488 *
IMAGE_SOURCE "CIR FILM" *
SOURCE_IMAGE_ID "NAPP 9554 141" *
SOURCE_IMAGE_DATE 1996 06 04 *
SOURCE_DEM_DATE 1949 01 01 *
AGENCY "WESTERN MAPPING CENTER (WMC)" *
PRODUCER "ANALYTICAL SURVEYS INC." *
PRODUCTION_SYSTEM "ORBIT OR_RECTIFY V.5.2" *
STANDARD_VERSION 1996 12 *
METADATA_DATE 1998 03 02 *
DATA_FILE_SIZE 149618610 *
BYTE_COUNT 19710 * * * * * * * * * * * * * * * * * * * * * * * * * * * * * * * * * * * * * * * * * * * * * * * * * * * * * * * * * * * * * * * * * * * * * * * * * * * * * * * * * * * * * * * * * * * * * * * * * * * * * * * * * * * * * * * * * * * * * * * * * * * * * * * * * * * * * * * * * * * * * * * * * * * * * * * * * * * * * * * * * * * * * * * * * * * * * * * * * * * * * * * * * * * * * * * * * * * * * * * * * *
END_USGS_HEADER *
