BEGIN_USGS_DOQ_HEADER *
QUADRANGLE_NAME "RAMONA" *
QUADRANT SE *
NORTH_LATITUDE 33 03 45.000 *
WEST_LONGITUDE -116 48 45.000 *
SOUTH_LATITUDE 33 00 00.000 *
EAST_LONGITUDE -116 45 00.000 *
PRODUCTION_DATE 1998 03 02 *
RASTER_ORDER LEFT_RIGHT/TOP_BOTTOM *
BAND_ORGANIZATION BIP *
BAND_CONTENT RED *
BAND_CONTENT GREEN *
BAND_CONTENT BLUE *
BITS_PER_PIXEL 8 *
SAMPLES_AND_LINES 6570 7560 *
HORIZONTAL_DATUM NAD83 *
HORIZONTAL_COORDINATE_SYSTEM UTM *
COORDINATE_ZONE 11 *
HORIZONTAL_UNITS METERS *
HORIZONTAL_RESOLUTION 1.000 *
SECONDARY_HORIZONTAL_DATUM NAD27 *
XY_ORIGIN 517110.000 3658560.000 *
SECONDARY_XY_ORIGIN 517190.485 3658363.896 *
NATION US *
STATE CA *
NW_QUAD_CORNER_XY 517503.122 3658231.359 *
NE_QUAD_CORNER_XY 523337.509 3658243.511 *
SE_QUAD_CORNER_XY 523353.989 3651314.694 *
SW_QUAD_CORNER_XY 517515.482 3651302.553 *
SECONDARY_NW_QUAD_XY 517503.506 3658040.009 *
SECONDARY_NE_QUAD_XY 523338.021 3658052.162 *
SECONDARY_SE_QUAD_XY 523354.501 3651123.557 *
SECONDARY_SW_QUAD_XY 517515.866 3651111.416 *
RMSE_XY 1.744 *
IMAGE_SOURCE "CIR FILM" *
SOURCE_IMAGE_ID "NAPP 9554 85" *
SOURCE_IMAGE_DATE 1996 06 04 *
SOURCE_DEM_DATE 1949 01 01 *
AGENCY "WESTERN MAPPING CENTER (WMC)" *
PRODUCER "ANALYTICAL SURVEYS INC." *
PRODUCTION_SYSTEM "ORBIT OR_RECTIFY V.5.2" *
STANDARD_VERSION 1996 12 *
METADATA_DATE 1998 03 02 *
DATA_FILE_SIZE 149027310 *
BYTE_COUNT 19710 * * * * * * * * * * * * * * * * * * * * * * * * * * * * * * * * * * * * * * * * * * * * * * * * * * * * * * * * * * * * * * * * * * * * * * * * * * * * * * * * * * * * * * * * * * * * * * * * * * * * * * * * * * * * * * * * * * * * * * * * * * * * * * * * * * * * * * * * * * * * * * * * * * * * * * * * * * * * * * * * * * * * * * * * * * * * * * * * * * * * * * * * * * * * * * * * * * * * * * * * * *
END_USGS_HEADER *
