BEGIN_USGS_DOQ_HEADER *
QUADRANGLE_NAME "SHELL REEF" *
QUADRANT SW *
NORTH_LATITUDE 33 11 15.000 *
WEST_LONGITUDE -116 07 30.000 *
SOUTH_LATITUDE 33 07 30.000 *
EAST_LONGITUDE -116 03 45.000 *
PRODUCTION_DATE 1998 03 30 *
RASTER_ORDER LEFT_RIGHT/TOP_BOTTOM *
BAND_ORGANIZATION BIP *
BAND_CONTENT RED *
BAND_CONTENT GREEN *
BAND_CONTENT BLUE *
BITS_PER_PIXEL 8 *
SAMPLES_AND_LINES 6600 7620 *
HORIZONTAL_DATUM NAD83 *
HORIZONTAL_COORDINATE_SYSTEM UTM *
COORDINATE_ZONE 11 *
HORIZONTAL_UNITS METERS *
HORIZONTAL_RESOLUTION 1.000 *
SECONDARY_HORIZONTAL_DATUM NAD27 *
XY_ORIGIN 581160.000 3672780.000 *
SECONDARY_XY_ORIGIN 581240.059 3672584.111 *
NATION US *
STATE CA *
NW_QUAD_CORNER_XY 581566.807 3672414.465 *
NE_QUAD_CORNER_XY 587393.211 3672464.914 *
SE_QUAD_CORNER_XY 587455.227 3665535.609 *
SW_QUAD_CORNER_XY 581624.688 3665485.208 *
SECONDARY_NW_QUAD_XY 581568.604 3672222.699 *
SECONDARY_NE_QUAD_XY 587395.136 3672273.149 *
SECONDARY_SE_QUAD_XY 587457.150 3665344.055 *
SECONDARY_SW_QUAD_XY 581626.483 3665293.654 *
RMSE_XY 2.117 *
IMAGE_SOURCE "CIR FILM" *
SOURCE_IMAGE_ID "NAPP 9566 57" *
SOURCE_IMAGE_DATE 1996 06 16 *
SOURCE_DEM_DATE 1976 01 01 *
AGENCY "WESTERN MAPPING CENTER (WMC)" *
PRODUCER "ANALYTICAL SURVEYS INC." *
PRODUCTION_SYSTEM "ORBIT OR_RECTIFY V.5.2" *
STANDARD_VERSION 1996 12 *
METADATA_DATE 1998 03 30 *
DATA_FILE_SIZE 150895800 *
BYTE_COUNT 19800 * * * * * * * * * * * * * * * * * * * * * * * * * * * * * * * * * * * * * * * * * * * * * * * * * * * * * * * * * * * * * * * * * * * * * * * * * * * * * * * * * * * * * * * * * * * * * * * * * * * * * * * * * * * * * * * * * * * * * * * * * * * * * * * * * * * * * * * * * * * * * * * * * * * * * * * * * * * * * * * * * * * * * * * * * * * * * * * * * * * * * * * * * * * * * * * * * * * * * * * * * * *
END_USGS_HEADER *
