BEGIN_USGS_DOQ_HEADER *
QUADRANGLE_NAME "BORREGO MOUNTAIN" *
QUADRANT SE *
NORTH_LATITUDE 33 11 15.000 *
WEST_LONGITUDE -116 11 15.000 *
SOUTH_LATITUDE 33 07 30.000 *
EAST_LONGITUDE -116 07 30.000 *
PRODUCTION_DATE 1998 03 25 *
RASTER_ORDER LEFT_RIGHT/TOP_BOTTOM *
BAND_ORGANIZATION BIP *
BAND_CONTENT RED *
BAND_CONTENT GREEN *
BAND_CONTENT BLUE *
BITS_PER_PIXEL 8 *
SAMPLES_AND_LINES 6600 7590 *
HORIZONTAL_DATUM NAD83 *
HORIZONTAL_COORDINATE_SYSTEM UTM *
COORDINATE_ZONE 11 *
HORIZONTAL_UNITS METERS *
HORIZONTAL_RESOLUTION 1.000 *
SECONDARY_HORIZONTAL_DATUM NAD27 *
XY_ORIGIN 575340.000 3672720.000 *
SECONDARY_XY_ORIGIN 575420.044 3672524.164 *
NATION US *
STATE CA *
NW_QUAD_CORNER_XY 575740.443 3672367.496 *
NE_QUAD_CORNER_XY 581566.807 3672414.465 *
SE_QUAD_CORNER_XY 581624.688 3665485.208 *
SW_QUAD_CORNER_XY 575794.188 3665438.284 *
SECONDARY_NW_QUAD_XY 575742.111 3672175.729 *
SECONDARY_NE_QUAD_XY 581568.604 3672222.699 *
SECONDARY_SE_QUAD_XY 581626.483 3665293.654 *
SECONDARY_SW_QUAD_XY 575795.855 3665246.729 *
RMSE_XY 1.485 *
IMAGE_SOURCE "CIR FILM" *
SOURCE_IMAGE_ID "NAPP 9566 24" *
SOURCE_IMAGE_DATE 1996 06 16 *
SOURCE_DEM_DATE 1960 01 01 *
AGENCY "WESTERN MAPPING CENTER (WMC)" *
PRODUCER "ANALYTICAL SURVEYS INC." *
PRODUCTION_SYSTEM "ORBIT OR_RECTIFY V.5.2" *
STANDARD_VERSION 1996 12 *
METADATA_DATE 1998 03 25 *
DATA_FILE_SIZE 150301800 *
BYTE_COUNT 19800 * * * * * * * * * * * * * * * * * * * * * * * * * * * * * * * * * * * * * * * * * * * * * * * * * * * * * * * * * * * * * * * * * * * * * * * * * * * * * * * * * * * * * * * * * * * * * * * * * * * * * * * * * * * * * * * * * * * * * * * * * * * * * * * * * * * * * * * * * * * * * * * * * * * * * * * * * * * * * * * * * * * * * * * * * * * * * * * * * * * * * * * * * * * * * * * * * * * * * * * * * * *
END_USGS_HEADER *
