BEGIN_USGS_DOQ_HEADER *
QUADRANGLE_NAME "BORREGO SINK" *
QUADRANT NW *
NORTH_LATITUDE 33 15 00.000 *
WEST_LONGITUDE -116 22 30.000 *
SOUTH_LATITUDE 33 11 15.000 *
EAST_LONGITUDE -116 18 45.000 *
PRODUCTION_DATE 1998 03 24 *
RASTER_ORDER LEFT_RIGHT/TOP_BOTTOM *
BAND_ORGANIZATION BIP *
BAND_CONTENT RED *
BAND_CONTENT GREEN *
BAND_CONTENT BLUE *
BITS_PER_PIXEL 8 *
SAMPLES_AND_LINES 6570 7590 *
HORIZONTAL_DATUM NAD83 *
HORIZONTAL_COORDINATE_SYSTEM UTM *
COORDINATE_ZONE 11 *
HORIZONTAL_UNITS METERS *
HORIZONTAL_RESOLUTION 1.000 *
SECONDARY_HORIZONTAL_DATUM NAD27 *
XY_ORIGIN 557820.000 3679530.000 *
SECONDARY_XY_ORIGIN 557900.050 3679334.214 *
NATION US *
STATE CA *
NW_QUAD_CORNER_XY 558220.147 3679176.634 *
NE_QUAD_CORNER_XY 564042.269 3679213.199 *
SE_QUAD_CORNER_XY 564087.820 3672283.998 *
SW_QUAD_CORNER_XY 558261.557 3672247.469 *
SECONDARY_NW_QUAD_XY 558221.432 3678984.654 *
SECONDARY_NE_QUAD_XY 564043.682 3679021.219 *
SECONDARY_SE_QUAD_XY 564089.232 3672092.229 *
SECONDARY_SW_QUAD_XY 558262.840 3672055.699 *
RMSE_XY 1.671 *
IMAGE_SOURCE "CIR FILM" *
SOURCE_IMAGE_ID "NAPP 9571 150" *
SOURCE_IMAGE_DATE 1996 09 26 *
SOURCE_DEM_DATE 1997 01 01 *
AGENCY "WESTERN MAPPING CENTER (WMC)" *
PRODUCER "ANALYTICAL SURVEYS INC." *
PRODUCTION_SYSTEM "ORBIT OR_RECTIFY V.5.2" *
STANDARD_VERSION 1996 12 *
METADATA_DATE 1998 03 24 *
DATA_FILE_SIZE 149618610 *
BYTE_COUNT 19710 * * * * * * * * * * * * * * * * * * * * * * * * * * * * * * * * * * * * * * * * * * * * * * * * * * * * * * * * * * * * * * * * * * * * * * * * * * * * * * * * * * * * * * * * * * * * * * * * * * * * * * * * * * * * * * * * * * * * * * * * * * * * * * * * * * * * * * * * * * * * * * * * * * * * * * * * * * * * * * * * * * * * * * * * * * * * * * * * * * * * * * * * * * * * * * * * * * * * * * * * * *
END_USGS_HEADER *
