BEGIN_USGS_DOQ_HEADER *
QUADRANGLE_NAME "MESA GRANDE" *
QUADRANT SE *
NORTH_LATITUDE 33 11 15.000 *
WEST_LONGITUDE -116 48 45.000 *
SOUTH_LATITUDE 33 07 30.000 *
EAST_LONGITUDE -116 45 00.000 *
PRODUCTION_DATE 1998 03 17 *
RASTER_ORDER LEFT_RIGHT/TOP_BOTTOM *
BAND_ORGANIZATION BIP *
BAND_CONTENT RED *
BAND_CONTENT GREEN *
BAND_CONTENT BLUE *
BITS_PER_PIXEL 8 *
SAMPLES_AND_LINES 6570 7560 *
HORIZONTAL_DATUM NAD83 *
HORIZONTAL_COORDINATE_SYSTEM UTM *
COORDINATE_ZONE 11 *
HORIZONTAL_UNITS METERS *
HORIZONTAL_RESOLUTION 1.000 *
SECONDARY_HORIZONTAL_DATUM NAD27 *
XY_ORIGIN 517080.000 3672420.000 *
SECONDARY_XY_ORIGIN 517160.304 3672223.937 *
NATION US *
STATE CA *
NW_QUAD_CORNER_XY 517478.340 3672089.179 *
NE_QUAD_CORNER_XY 523304.466 3672101.355 *
SE_QUAD_CORNER_XY 523321.001 3665172.398 *
SW_QUAD_CORNER_XY 517490.741 3665160.234 *
SECONDARY_NW_QUAD_XY 517478.725 3671897.406 *
SECONDARY_NE_QUAD_XY 523304.979 3671909.582 *
SECONDARY_SE_QUAD_XY 523321.514 3664980.837 *
SECONDARY_SW_QUAD_XY 517491.126 3664968.672 *
RMSE_XY 1.786 *
IMAGE_SOURCE "CIR FILM" *
SOURCE_IMAGE_ID "NAPP 9554 81" *
SOURCE_IMAGE_DATE 1996 06 04 *
SOURCE_DEM_DATE 1988 01 01 *
AGENCY "WESTERN MAPPING CENTER (WMC)" *
PRODUCER "ANALYTICAL SURVEYS INC." *
PRODUCTION_SYSTEM "ORBIT OR_RECTIFY V.5.2" *
STANDARD_VERSION 1996 12 *
METADATA_DATE 1998 03 17 *
DATA_FILE_SIZE 149027310 *
BYTE_COUNT 19710 * * * * * * * * * * * * * * * * * * * * * * * * * * * * * * * * * * * * * * * * * * * * * * * * * * * * * * * * * * * * * * * * * * * * * * * * * * * * * * * * * * * * * * * * * * * * * * * * * * * * * * * * * * * * * * * * * * * * * * * * * * * * * * * * * * * * * * * * * * * * * * * * * * * * * * * * * * * * * * * * * * * * * * * * * * * * * * * * * * * * * * * * * * * * * * * * * * * * * * * * * *
END_USGS_HEADER *
