BEGIN_USGS_DOQ_HEADER *
QUADRANGLE_NAME "SEVENTEEN PALMS" *
QUADRANT NW *
NORTH_LATITUDE 33 22 30.000 *
WEST_LONGITUDE -116 07 30.000 *
SOUTH_LATITUDE 33 18 45.000 *
EAST_LONGITUDE -116 03 45.000 *
PRODUCTION_DATE 1998 03 25 *
RASTER_ORDER LEFT_RIGHT/TOP_BOTTOM *
BAND_ORGANIZATION BIP *
BAND_CONTENT RED *
BAND_CONTENT GREEN *
BAND_CONTENT BLUE *
BITS_PER_PIXEL 8 *
SAMPLES_AND_LINES 6570 7620 *
HORIZONTAL_DATUM NAD83 *
HORIZONTAL_COORDINATE_SYSTEM UTM *
COORDINATE_ZONE 11 *
HORIZONTAL_UNITS METERS *
HORIZONTAL_RESOLUTION 1.000 *
SECONDARY_HORIZONTAL_DATUM NAD27 *
XY_ORIGIN 581010.000 3693570.000 *
SECONDARY_XY_ORIGIN 581089.753 3693374.468 *
NATION US *
STATE CA *
NW_QUAD_CORNER_XY 581392.582 3693202.645 *
NE_QUAD_CORNER_XY 587206.538 3693253.238 *
SE_QUAD_CORNER_XY 587268.866 3686323.729 *
SW_QUAD_CORNER_XY 581450.754 3686273.184 *
SECONDARY_NW_QUAD_XY 581394.385 3693010.250 *
SECONDARY_NE_QUAD_XY 587208.469 3693060.844 *
SECONDARY_SE_QUAD_XY 587270.795 3686131.544 *
SECONDARY_SW_QUAD_XY 581452.555 3686080.997 *
RMSE_XY 2.883 *
IMAGE_SOURCE "CIR FILM" *
SOURCE_IMAGE_ID "NAPP 9566 51" *
SOURCE_IMAGE_DATE 1996 06 16 *
SOURCE_DEM_DATE 1997 01 01 *
AGENCY "WESTERN MAPPING CENTER (WMC)" *
PRODUCER "ANALYTICAL SURVEYS INC." *
PRODUCTION_SYSTEM "ORBIT OR_RECTIFY V.5.2" *
STANDARD_VERSION 1996 12 *
METADATA_DATE 1998 03 27 *
DATA_FILE_SIZE 150209910 *
BYTE_COUNT 19710 * * * * * * * * * * * * * * * * * * * * * * * * * * * * * * * * * * * * * * * * * * * * * * * * * * * * * * * * * * * * * * * * * * * * * * * * * * * * * * * * * * * * * * * * * * * * * * * * * * * * * * * * * * * * * * * * * * * * * * * * * * * * * * * * * * * * * * * * * * * * * * * * * * * * * * * * * * * * * * * * * * * * * * * * * * * * * * * * * * * * * * * * * * * * * * * * * * * * * * * * * *
END_USGS_HEADER *
