BEGIN_USGS_DOQ_HEADER *
QUADRANGLE_NAME "SEVENTEEN PALMS" *
QUADRANT SE *
NORTH_LATITUDE 33 18 45.000 *
WEST_LONGITUDE -116 03 45.000 *
SOUTH_LATITUDE 33 15 00.000 *
EAST_LONGITUDE -116 00 00.000 *
PRODUCTION_DATE 1998 03 25 *
RASTER_ORDER LEFT_RIGHT/TOP_BOTTOM *
BAND_ORGANIZATION BIP *
BAND_CONTENT RED *
BAND_CONTENT GREEN *
BAND_CONTENT BLUE *
BITS_PER_PIXEL 8 *
SAMPLES_AND_LINES 6570 7620 *
HORIZONTAL_DATUM NAD83 *
HORIZONTAL_COORDINATE_SYSTEM UTM *
COORDINATE_ZONE 11 *
HORIZONTAL_UNITS METERS *
HORIZONTAL_RESOLUTION 1.000 *
SECONDARY_HORIZONTAL_DATUM NAD27 *
XY_ORIGIN 586890.000 3686700.000 *
SECONDARY_XY_ORIGIN 586969.803 3686504.334 *
NATION US *
STATE CA *
NW_QUAD_CORNER_XY 587268.866 3686323.729 *
NE_QUAD_CORNER_XY 593087.019 3686377.761 *
SE_QUAD_CORNER_XY 593153.393 3679448.268 *
SW_QUAD_CORNER_XY 587331.090 3679394.288 *
SECONDARY_NW_QUAD_XY 587270.795 3686131.544 *
SECONDARY_NE_QUAD_XY 593089.077 3686185.577 *
SECONDARY_SE_QUAD_XY 593155.449 3679256.294 *
SECONDARY_SW_QUAD_XY 587333.018 3679202.312 *
RMSE_XY 0.991 *
IMAGE_SOURCE "CIR FILM" *
SOURCE_IMAGE_ID "NAPP 9566 100" *
SOURCE_IMAGE_DATE 1996 06 16 *
SOURCE_DEM_DATE 1997 01 01 *
AGENCY "WESTERN MAPPING CENTER (WMC)" *
PRODUCER "ANALYTICAL SURVEYS INC." *
PRODUCTION_SYSTEM "ORBIT OR_RECTIFY V.5.2" *
STANDARD_VERSION 1996 12 *
METADATA_DATE 1998 03 27 *
DATA_FILE_SIZE 150209910 *
BYTE_COUNT 19710 * * * * * * * * * * * * * * * * * * * * * * * * * * * * * * * * * * * * * * * * * * * * * * * * * * * * * * * * * * * * * * * * * * * * * * * * * * * * * * * * * * * * * * * * * * * * * * * * * * * * * * * * * * * * * * * * * * * * * * * * * * * * * * * * * * * * * * * * * * * * * * * * * * * * * * * * * * * * * * * * * * * * * * * * * * * * * * * * * * * * * * * * * * * * * * * * * * * * * * * * * *
END_USGS_HEADER *
