BEGIN_USGS_DOQ_HEADER *
QUADRANGLE_NAME "FONTS POINT" *
QUADRANT SE *
NORTH_LATITUDE 33 18 45.000 *
WEST_LONGITUDE -116 11 15.000 *
SOUTH_LATITUDE 33 15 00.000 *
EAST_LONGITUDE -116 07 30.000 *
PRODUCTION_DATE 1998 04 01 *
RASTER_ORDER LEFT_RIGHT/TOP_BOTTOM *
BAND_ORGANIZATION BIP *
BAND_CONTENT RED *
BAND_CONTENT GREEN *
BAND_CONTENT BLUE *
BITS_PER_PIXEL 8 *
SAMPLES_AND_LINES 6570 7590 *
HORIZONTAL_DATUM NAD83 *
HORIZONTAL_COORDINATE_SYSTEM UTM *
COORDINATE_ZONE 11 *
HORIZONTAL_UNITS METERS *
HORIZONTAL_RESOLUTION 1.000 *
SECONDARY_HORIZONTAL_DATUM NAD27 *
XY_ORIGIN 575250.000 3686580.000 *
SECONDARY_XY_ORIGIN 575329.844 3686384.342 *
NATION US *
STATE CA *
NW_QUAD_CORNER_XY 575632.681 3686226.125 *
NE_QUAD_CORNER_XY 581450.754 3686273.184 *
SE_QUAD_CORNER_XY 581508.829 3679343.790 *
SW_QUAD_CORNER_XY 575686.607 3679296.777 *
SECONDARY_NW_QUAD_XY 575634.353 3686033.938 *
SECONDARY_NE_QUAD_XY 581452.555 3686080.997 *
SECONDARY_SE_QUAD_XY 581510.628 3679151.814 *
SECONDARY_SW_QUAD_XY 575688.277 3679104.799 *
RMSE_XY 2.230 *
IMAGE_SOURCE "CIR FILM" *
SOURCE_IMAGE_ID "NAPP 9566 28" *
SOURCE_IMAGE_DATE 1996 06 16 *
SOURCE_DEM_DATE 1974 01 01 *
AGENCY "WESTERN MAPPING CENTER (WMC)" *
PRODUCER "ANALYTICAL SURVEYS INC." *
PRODUCTION_SYSTEM "ORBIT OR_RECTIFY V.5.2" *
STANDARD_VERSION 1996 12 *
METADATA_DATE 1998 04 01 *
DATA_FILE_SIZE 149618610 *
BYTE_COUNT 19710 * * * * * * * * * * * * * * * * * * * * * * * * * * * * * * * * * * * * * * * * * * * * * * * * * * * * * * * * * * * * * * * * * * * * * * * * * * * * * * * * * * * * * * * * * * * * * * * * * * * * * * * * * * * * * * * * * * * * * * * * * * * * * * * * * * * * * * * * * * * * * * * * * * * * * * * * * * * * * * * * * * * * * * * * * * * * * * * * * * * * * * * * * * * * * * * * * * * * * * * * * *
END_USGS_HEADER *
