BEGIN_USGS_DOQ_HEADER *
QUADRANGLE_NAME "HOT SPRINGS MOUNTAIN" *
QUADRANT SW *
NORTH_LATITUDE 33 18 45.000 *
WEST_LONGITUDE -116 37 30.000 *
SOUTH_LATITUDE 33 15 00.000 *
EAST_LONGITUDE -116 33 45.000 *
PRODUCTION_DATE 1998 03 26 *
RASTER_ORDER LEFT_RIGHT/TOP_BOTTOM *
BAND_ORGANIZATION BIP *
BAND_CONTENT RED *
BAND_CONTENT GREEN *
BAND_CONTENT BLUE *
BITS_PER_PIXEL 8 *
SAMPLES_AND_LINES 6570 7590 *
HORIZONTAL_DATUM NAD83 *
HORIZONTAL_COORDINATE_SYSTEM UTM *
COORDINATE_ZONE 11 *
HORIZONTAL_UNITS METERS *
HORIZONTAL_RESOLUTION 1.000 *
SECONDARY_HORIZONTAL_DATUM NAD27 *
XY_ORIGIN 534510.000 3686340.000 *
SECONDARY_XY_ORIGIN 534590.109 3686144.057 *
NATION US *
STATE CA *
NW_QUAD_CORNER_XY 534907.023 3685994.331 *
NE_QUAD_CORNER_XY 540724.902 3686016.987 *
SE_QUAD_CORNER_XY 540753.937 3679087.837 *
SW_QUAD_CORNER_XY 534931.910 3679065.203 *
SECONDARY_NW_QUAD_XY 534907.795 3685802.139 *
SECONDARY_NE_QUAD_XY 540725.803 3685824.795 *
SECONDARY_SE_QUAD_XY 540754.836 3678895.855 *
SECONDARY_SW_QUAD_XY 534932.681 3678873.220 *
RMSE_XY 3.787 *
IMAGE_SOURCE "CIR FILM" *
SOURCE_IMAGE_ID "NAPP 9553 142" *
SOURCE_IMAGE_DATE 1996 06 04 *
SOURCE_IMAGE_ID "NAPP 9553 143" *
SOURCE_IMAGE_DATE 1996 06 04 *
SOURCE_IMAGE_ID "NAPP 9553 190" *
SOURCE_IMAGE_DATE 1996 06 04 *
SOURCE_DEM_DATE 1997 01 01 *
AGENCY "WESTERN MAPPING CENTER (WMC)" *
PRODUCER "ANALYTICAL SURVEYS INC." *
PRODUCTION_SYSTEM "ORBIT OR_RECTIFY V.5.2" *
STANDARD_VERSION 1996 12 *
METADATA_DATE 1998 03 26 *
DATA_FILE_SIZE 149618610 *
BYTE_COUNT 19710 * * * * * * * * * * * * * * * * * * * * * * * * * * * * * * * * * * * * * * * * * * * * * * * * * * * * * * * * * * * * * * * * * * * * * * * * * * * * * * * * * * * * * * * * * * * * * * * * * * * * * * * * * * * * * * * * * * * * * * * * * * * * * * * * * * * * * * * * * * * * * * * * * * * * * * * * * * * * * * * * * * * * * * * * * * * * * * * * * * * * * * * * * * * * * * * * * * * * * *
END_USGS_HEADER *
