BEGIN_USGS_DOQ_HEADER *
QUADRANGLE_NAME "WARNER SPRINGS" *
QUADRANT SW *
NORTH_LATITUDE 33 18 45.000 *
WEST_LONGITUDE -116 45 00.000 *
SOUTH_LATITUDE 33 15 00.000 *
EAST_LONGITUDE -116 41 15.000 *
PRODUCTION_DATE 1998 03 18 *
RASTER_ORDER LEFT_RIGHT/TOP_BOTTOM *
BAND_ORGANIZATION BIP *
BAND_CONTENT RED *
BAND_CONTENT GREEN *
BAND_CONTENT BLUE *
BITS_PER_PIXEL 8 *
SAMPLES_AND_LINES 6540 7560 *
HORIZONTAL_DATUM NAD83 *
HORIZONTAL_COORDINATE_SYSTEM UTM *
COORDINATE_ZONE 11 *
HORIZONTAL_UNITS METERS *
HORIZONTAL_RESOLUTION 1.000 *
SECONDARY_HORIZONTAL_DATUM NAD27 *
XY_ORIGIN 522870.000 3686280.000 *
SECONDARY_XY_ORIGIN 522950.091 3686083.948 *
NATION US *
STATE CA *
NW_QUAD_CORNER_XY 523271.312 3685959.477 *
NE_QUAD_CORNER_XY 529089.160 3685975.161 *
SE_QUAD_CORNER_XY 529109.899 3679046.051 *
SW_QUAD_CORNER_XY 523287.903 3679030.381 *
SECONDARY_NW_QUAD_XY 523271.826 3685767.283 *
SECONDARY_NE_QUAD_XY 529089.804 3685782.968 *
SECONDARY_SE_QUAD_XY 529110.542 3678854.068 *
SECONDARY_SW_QUAD_XY 523288.417 3678838.398 *
RMSE_XY 3.499 *
IMAGE_SOURCE "CIR FILM" *
SOURCE_IMAGE_ID "NAPP 9554 33" *
SOURCE_IMAGE_DATE 1996 06 04 *
SOURCE_DEM_DATE 1997 01 01 *
AGENCY "WESTERN MAPPING CENTER (WMC)" *
PRODUCER "ANALYTICAL SURVEYS INC." *
PRODUCTION_SYSTEM "ORBIT OR_RECTIFY V.5.2" *
STANDARD_VERSION 1996 12 *
METADATA_DATE 1998 03 18 *
DATA_FILE_SIZE 148346820 *
BYTE_COUNT 19620 * * * * * * * * * * * * * * * * * * * * * * * * * * * * * * * * * * * * * * * * * * * * * * * * * * * * * * * * * * * * * * * * * * * * * * * * * * * * * * * * * * * * * * * * * * * * * * * * * * * * * * * * * * * * * * * * * * * * * * * * * * * * * * * * * * * * * * * * * * * * * * * * * * * * * * * * * * * * * * * * * * * * * * * * * * * * * * * * * * * * * * * * * * * * * * * * * * * * * * * * *
END_USGS_HEADER *
