BEGIN_USGS_DOQ_HEADER *
QUADRANGLE_NAME "PALOMAR OBSERVATORY" *
QUADRANT SE *
NORTH_LATITUDE 33 18 45.000 *
WEST_LONGITUDE -116 48 45.000 *
SOUTH_LATITUDE 33 15 00.000 *
EAST_LONGITUDE -116 45 00.000 *
PRODUCTION_DATE 1998 03 17 *
RASTER_ORDER LEFT_RIGHT/TOP_BOTTOM *
BAND_ORGANIZATION BIP *
BAND_CONTENT RED *
BAND_CONTENT GREEN *
BAND_CONTENT BLUE *
BITS_PER_PIXEL 8 *
SAMPLES_AND_LINES 6540 7590 *
HORIZONTAL_DATUM NAD83 *
HORIZONTAL_COORDINATE_SYSTEM UTM *
COORDINATE_ZONE 11 *
HORIZONTAL_UNITS METERS *
HORIZONTAL_RESOLUTION 1.000 *
SECONDARY_HORIZONTAL_DATUM NAD27 *
XY_ORIGIN 517050.000 3686280.000 *
SECONDARY_XY_ORIGIN 517130.119 3686083.972 *
NATION US *
STATE CA *
NW_QUAD_CORNER_XY 517453.474 3685947.278 *
NE_QUAD_CORNER_XY 523271.312 3685959.477 *
SE_QUAD_CORNER_XY 523287.903 3679030.381 *
SW_QUAD_CORNER_XY 517465.917 3679018.194 *
SECONDARY_NW_QUAD_XY 517453.860 3685755.084 *
SECONDARY_NE_QUAD_XY 523271.826 3685767.283 *
SECONDARY_SE_QUAD_XY 523288.417 3678838.398 *
SECONDARY_SW_QUAD_XY 517466.303 3678826.210 *
RMSE_XY 1.334 *
IMAGE_SOURCE "CIR FILM" *
SOURCE_IMAGE_ID "NAPP 9554 77" *
SOURCE_IMAGE_DATE 1996 06 04 *
SOURCE_DEM_DATE 1988 01 01 *
AGENCY "WESTERN MAPPING CENTER (WMC)" *
PRODUCER "ANALYTICAL SURVEYS INC." *
PRODUCTION_SYSTEM "ORBIT OR_RECTIFY V.5.2" *
STANDARD_VERSION 1996 12 *
METADATA_DATE 1998 03 17 *
DATA_FILE_SIZE 148935420 *
BYTE_COUNT 19620 * * * * * * * * * * * * * * * * * * * * * * * * * * * * * * * * * * * * * * * * * * * * * * * * * * * * * * * * * * * * * * * * * * * * * * * * * * * * * * * * * * * * * * * * * * * * * * * * * * * * * * * * * * * * * * * * * * * * * * * * * * * * * * * * * * * * * * * * * * * * * * * * * * * * * * * * * * * * * * * * * * * * * * * * * * * * * * * * * * * * * * * * * * * * * * * * * * * * * * * * *
END_USGS_HEADER *
