BEGIN_USGS_DOQ_HEADER *
QUADRANGLE_NAME "BOUCHER HILL" *
QUADRANT SW *
NORTH_LATITUDE 33 18 45.000 *
WEST_LONGITUDE -117 00 00.000 *
SOUTH_LATITUDE 33 15 00.000 *
EAST_LONGITUDE -116 56 15.000 *
PRODUCTION_DATE 1998 03 12 *
RASTER_ORDER LEFT_RIGHT/TOP_BOTTOM *
BAND_ORGANIZATION BIP *
BAND_CONTENT RED *
BAND_CONTENT GREEN *
BAND_CONTENT BLUE *
BITS_PER_PIXEL 8 *
SAMPLES_AND_LINES 6540 7560 *
HORIZONTAL_DATUM NAD83 *
HORIZONTAL_COORDINATE_SYSTEM UTM *
COORDINATE_ZONE 11 *
HORIZONTAL_UNITS METERS *
HORIZONTAL_RESOLUTION 1.000 *
SECONDARY_HORIZONTAL_DATUM NAD27 *
XY_ORIGIN 499590.000 3686250.000 *
SECONDARY_XY_ORIGIN 499670.191 3686054.017 *
NATION US *
STATE CA *
NW_QUAD_CORNER_XY 500000.000 3685931.593 *
NE_QUAD_CORNER_XY 505817.821 3685933.336 *
SE_QUAD_CORNER_XY 505821.969 3679004.265 *
SW_QUAD_CORNER_XY 500000.000 3679002.524 *
SECONDARY_NW_QUAD_XY 500000.000 3685739.400 *
SECONDARY_NE_QUAD_XY 505817.950 3685741.142 *
SECONDARY_SE_QUAD_XY 505822.097 3678812.281 *
SECONDARY_SW_QUAD_XY 500000.000 3678810.540 *
RMSE_XY 1.689 *
IMAGE_SOURCE "CIR FILM" *
SOURCE_IMAGE_ID "NAPP 9555 34" *
SOURCE_IMAGE_DATE 1996 06 04 *
SOURCE_DEM_DATE 1997 01 01 *
AGENCY "WESTERN MAPPING CENTER (WMC)" *
PRODUCER "ANALYTICAL SURVEYS INC." *
PRODUCTION_SYSTEM "ORBIT OR_RECTIFY V.5.2" *
STANDARD_VERSION 1996 12 *
METADATA_DATE 1998 03 16 *
DATA_FILE_SIZE 148346820 *
BYTE_COUNT 19620 * * * * * * * * * * * * * * * * * * * * * * * * * * * * * * * * * * * * * * * * * * * * * * * * * * * * * * * * * * * * * * * * * * * * * * * * * * * * * * * * * * * * * * * * * * * * * * * * * * * * * * * * * * * * * * * * * * * * * * * * * * * * * * * * * * * * * * * * * * * * * * * * * * * * * * * * * * * * * * * * * * * * * * * * * * * * * * * * * * * * * * * * * * * * * * * * * * * * * * * * *
END_USGS_HEADER *
