BEGIN_USGS_DOQ_HEADER *
QUADRANGLE_NAME "OASIS" *
QUADRANT NE *
NORTH_LATITUDE 33 30 00.000 *
WEST_LONGITUDE -116 03 45.000 *
SOUTH_LATITUDE 33 26 15.000 *
EAST_LONGITUDE -116 00 00.000 *
PRODUCTION_DATE 1998 03 26 *
RASTER_ORDER LEFT_RIGHT/TOP_BOTTOM *
BAND_ORGANIZATION BIP *
BAND_CONTENT RED *
BAND_CONTENT GREEN *
BAND_CONTENT BLUE *
BITS_PER_PIXEL 8 *
SAMPLES_AND_LINES 6600 7620 *
HORIZONTAL_DATUM NAD83 *
HORIZONTAL_COORDINATE_SYSTEM UTM *
COORDINATE_ZONE 11 *
HORIZONTAL_UNITS METERS *
HORIZONTAL_RESOLUTION 1.000 *
SECONDARY_HORIZONTAL_DATUM NAD27 *
XY_ORIGIN 586680.000 3707490.000 *
SECONDARY_XY_ORIGIN 586759.546 3707294.837 *
NATION US *
STATE CA *
NW_QUAD_CORNER_XY 587081.570 3707112.460 *
NE_QUAD_CORNER_XY 592887.233 3707166.645 *
SE_QUAD_CORNER_XY 592953.939 3700236.949 *
SW_QUAD_CORNER_XY 587144.106 3700182.815 *
SECONDARY_NW_QUAD_XY 587083.505 3706919.650 *
SECONDARY_NE_QUAD_XY 592889.297 3706973.836 *
SECONDARY_SE_QUAD_XY 592956.001 3700044.348 *
SECONDARY_SW_QUAD_XY 587146.039 3699990.213 *
RMSE_XY 2.368 *
IMAGE_SOURCE "CIR FILM" *
SOURCE_IMAGE_ID "NAPP 9566 106" *
SOURCE_IMAGE_DATE 1996 06 16 *
SOURCE_DEM_DATE 1997 01 01 *
AGENCY "WESTERN MAPPING CENTER (WMC)" *
PRODUCER "ANALYTICAL SURVEYS INC." *
PRODUCTION_SYSTEM "ORBIT OR_RECTIFY V.5.2" *
STANDARD_VERSION 1996 12 *
METADATA_DATE 1998 03 26 *
DATA_FILE_SIZE 150895800 *
BYTE_COUNT 19800 * * * * * * * * * * * * * * * * * * * * * * * * * * * * * * * * * * * * * * * * * * * * * * * * * * * * * * * * * * * * * * * * * * * * * * * * * * * * * * * * * * * * * * * * * * * * * * * * * * * * * * * * * * * * * * * * * * * * * * * * * * * * * * * * * * * * * * * * * * * * * * * * * * * * * * * * * * * * * * * * * * * * * * * * * * * * * * * * * * * * * * * * * * * * * * * * * * * * * * * * * * *
END_USGS_HEADER *
