BEGIN_USGS_DOQ_HEADER *
QUADRANGLE_NAME "RABBIT PEAK" *
QUADRANT NE *
NORTH_LATITUDE 33 30 00.000 *
WEST_LONGITUDE -116 11 15.000 *
SOUTH_LATITUDE 33 26 15.000 *
EAST_LONGITUDE -116 07 30.000 *
PRODUCTION_DATE 1998 03 25 *
RASTER_ORDER LEFT_RIGHT/TOP_BOTTOM *
BAND_ORGANIZATION BIP *
BAND_CONTENT RED *
BAND_CONTENT GREEN *
BAND_CONTENT BLUE *
BITS_PER_PIXEL 8 *
SAMPLES_AND_LINES 6570 7590 *
HORIZONTAL_DATUM NAD83 *
HORIZONTAL_COORDINATE_SYSTEM UTM *
COORDINATE_ZONE 11 *
HORIZONTAL_UNITS METERS *
HORIZONTAL_RESOLUTION 1.000 *
SECONDARY_HORIZONTAL_DATUM NAD27 *
XY_ORIGIN 575070.000 3707370.000 *
SECONDARY_XY_ORIGIN 575149.680 3707174.625 *
NATION US *
STATE CA *
NW_QUAD_CORNER_XY 575470.363 3707014.582 *
NE_QUAD_CORNER_XY 581275.948 3707061.773 *
SE_QUAD_CORNER_XY 581334.313 3700132.175 *
SW_QUAD_CORNER_XY 575524.559 3700085.028 *
SECONDARY_NW_QUAD_XY 575472.040 3706821.770 *
SECONDARY_NE_QUAD_XY 581277.753 3706868.962 *
SECONDARY_SE_QUAD_XY 581336.118 3699939.571 *
SECONDARY_SW_QUAD_XY 575526.235 3699892.423 *
RMSE_XY 1.943 *
IMAGE_SOURCE "CIR FILM" *
SOURCE_IMAGE_ID "NAPP 9566 34" *
SOURCE_IMAGE_DATE 1996 06 16 *
SOURCE_DEM_DATE 1959 01 01 *
AGENCY "WESTERN MAPPING CENTER (WMC)" *
PRODUCER "ANALYTICAL SURVEYS INC." *
PRODUCTION_SYSTEM "ORBIT OR_RECTIFY V.5.2" *
STANDARD_VERSION 1996 12 *
METADATA_DATE 1998 03 26 *
DATA_FILE_SIZE 149618610 *
BYTE_COUNT 19710 * * * * * * * * * * * * * * * * * * * * * * * * * * * * * * * * * * * * * * * * * * * * * * * * * * * * * * * * * * * * * * * * * * * * * * * * * * * * * * * * * * * * * * * * * * * * * * * * * * * * * * * * * * * * * * * * * * * * * * * * * * * * * * * * * * * * * * * * * * * * * * * * * * * * * * * * * * * * * * * * * * * * * * * * * * * * * * * * * * * * * * * * * * * * * * * * * * * * * * * * * *
END_USGS_HEADER *
